BEGIN:VCALENDAR
VERSION:2.0
PRODID:-//AMAC Foundation - ECPv6.15.15//NONSGML v1.0//EN
CALSCALE:GREGORIAN
METHOD:PUBLISH
X-WR-CALNAME:AMAC Foundation
X-ORIGINAL-URL:https://amacfoundation.org
X-WR-CALDESC:Events for AMAC Foundation
REFRESH-INTERVAL;VALUE=DURATION:PT1H
X-Robots-Tag:noindex
X-PUBLISHED-TTL:PT1H
BEGIN:VTIMEZONE
TZID:America/New_York
BEGIN:DAYLIGHT
TZOFFSETFROM:-0500
TZOFFSETTO:-0400
TZNAME:EDT
DTSTART:20180311T070000
END:DAYLIGHT
BEGIN:STANDARD
TZOFFSETFROM:-0400
TZOFFSETTO:-0500
TZNAME:EST
DTSTART:20181104T060000
END:STANDARD
BEGIN:DAYLIGHT
TZOFFSETFROM:-0500
TZOFFSETTO:-0400
TZNAME:EDT
DTSTART:20190310T070000
END:DAYLIGHT
BEGIN:STANDARD
TZOFFSETFROM:-0400
TZOFFSETTO:-0500
TZNAME:EST
DTSTART:20191103T060000
END:STANDARD
BEGIN:DAYLIGHT
TZOFFSETFROM:-0500
TZOFFSETTO:-0400
TZNAME:EDT
DTSTART:20200308T070000
END:DAYLIGHT
BEGIN:STANDARD
TZOFFSETFROM:-0400
TZOFFSETTO:-0500
TZNAME:EST
DTSTART:20201101T060000
END:STANDARD
END:VTIMEZONE
BEGIN:VEVENT
DTSTART;TZID=America/New_York:20190122T130000
DTEND;TZID=America/New_York:20190122T150000
DTSTAMP:20260421T035905
CREATED:20181030T165918Z
LAST-MODIFIED:20181030T170618Z
UID:10000251-1548162000-1548169200@amacfoundation.org
SUMMARY:Cutting the Cord...Life After Cable
DESCRIPTION:Cord-cutting–the act of severing the traditional link to cable television–has grown substantially in recent years as two factors collide: the availability of a host of new options on the home entertainment market\, and growing dissatisfaction with cable companies’  price/reliability/service model. On this first factor\, the past few years have brought services like Netflix\, Amazon Prime Video\, Sling TV\, Huku\, Roku\, and others into the mainstream vocabulary\, while on the second factor\, many households have begun to take exception to what is perceived as a continual ramp up of pricing from the cable companies and somewhat of a deterioration in reliability and service levels. \nFor many households\, price has been the driver to consider dropping their cable service in favor of a newer\, cheaper option. Yes\, the cable companies gleefully advertise that their contract gives you hundreds and hundreds of channels\, and it breaks down to perhaps pennies for each of them. But realistically\, how many different channels do you really want? Most people typical have only a handful of favorites\, maybe a half dozen or so\, while the “hundreds and hundreds” available on cable are rarely–if ever–accessed. Here’s where the pay-as-you-go options of the rapidly emerging streaming market emerge as attractive alternatives. \nOK\, but how do I get there? What do I need to have to get there? And when I get there\, what have I given up? These and many other relevant questions will be answered in this informative two-hour session presented by the Foundation. Experts from Best Buy’s “Geek Squad” training staff will explain the marketplace\, covering the equipment and contract details you’ll need to consider in order to take the leap. \nSpecial Note: This session has been organized for The Villages Deaf Senior Citizens organization. Limited space will be available for the general public and non-Villages residents\, so register early!\nHere are the details: \nDate:     Tuesday\, January 22\, 2019 \nTime:     1:00 pm to 3:00 pm \nPlace:    Churchill Recreation Center – 2375 Churchill Downs\, The Villages\, FL 32162 \nThere is no cost for this workshop\, and light refreshments will be served. \nTo register: Contact the AMAC Foundation\, 888-750-2622 or email: info@amacfoundation.org \nDeadline for reservation is Friday\, January 18\, 2019
URL:https://amacfoundation.org/event/cutting-cord-life-cable/
LOCATION:Churchill Rec Center\, 2375 Churchill Downs\, The Villages\, FL\, 32162\, United States
ATTACH;FMTTYPE=image/jpeg:https://amacfoundation.org/wp-content/uploads/2017/08/life-after-cale.jpg
END:VEVENT
END:VCALENDAR