BEGIN:VCALENDAR
VERSION:2.0
PRODID:-//AMAC Foundation - ECPv6.15.15//NONSGML v1.0//EN
CALSCALE:GREGORIAN
METHOD:PUBLISH
X-ORIGINAL-URL:https://amacfoundation.org
X-WR-CALDESC:Events for AMAC Foundation
REFRESH-INTERVAL;VALUE=DURATION:PT1H
X-Robots-Tag:noindex
X-PUBLISHED-TTL:PT1H
BEGIN:VTIMEZONE
TZID:America/New_York
BEGIN:DAYLIGHT
TZOFFSETFROM:-0500
TZOFFSETTO:-0400
TZNAME:EDT
DTSTART:20250309T070000
END:DAYLIGHT
BEGIN:STANDARD
TZOFFSETFROM:-0400
TZOFFSETTO:-0500
TZNAME:EST
DTSTART:20251102T060000
END:STANDARD
BEGIN:DAYLIGHT
TZOFFSETFROM:-0500
TZOFFSETTO:-0400
TZNAME:EDT
DTSTART:20260308T070000
END:DAYLIGHT
BEGIN:STANDARD
TZOFFSETFROM:-0400
TZOFFSETTO:-0500
TZNAME:EST
DTSTART:20261101T060000
END:STANDARD
BEGIN:DAYLIGHT
TZOFFSETFROM:-0500
TZOFFSETTO:-0400
TZNAME:EDT
DTSTART:20270314T070000
END:DAYLIGHT
BEGIN:STANDARD
TZOFFSETFROM:-0400
TZOFFSETTO:-0500
TZNAME:EST
DTSTART:20271107T060000
END:STANDARD
END:VTIMEZONE
BEGIN:VEVENT
DTSTART;TZID=America/New_York:20260519T180000
DTEND;TZID=America/New_York:20260519T190000
DTSTAMP:20260421T205516
CREATED:20260421T194931Z
LAST-MODIFIED:20260421T195812Z
UID:10004155-1779213600-1779217200@amacfoundation.org
SUMMARY:Path Forward: Aging at Home. Living with Dignity. 
DESCRIPTION:Millions of Americans hope to remain in their homes as they age\, yet many face rising costs and limited caregiving support that make maintaining independence more difficult. In this important conversation\, Rebecca Weber\, CEO of AMAC\, and Carrie Lukas\, President of Independent Women\, discuss why the ability to age at home with dignity matters deeply to them and to families across the country. \n\n\n\nTogether\, they will share real stories from AMAC members and caregivers\, offering insight into the experiences and challenges many families face today.Rebecca and Carrie will also discuss meaningful steps that would help strengthen support for seniors and caregivers and ensure that more Americans have the opportunity to age at home with dignity through independence\, companionship\, and choice.
URL:https://amacfoundation.org/event/path-forward-aging-at-home-living-with-dignity/
LOCATION:Virtual Seminar\, United States
ATTACH;FMTTYPE=image/png:https://amacfoundation.org/wp-content/uploads/2026/04/eventspage-iw.png
END:VEVENT
END:VCALENDAR