BEGIN:VCALENDAR
VERSION:2.0
PRODID:-//AMAC Foundation - ECPv6.15.15//NONSGML v1.0//EN
CALSCALE:GREGORIAN
METHOD:PUBLISH
X-WR-CALNAME:AMAC Foundation
X-ORIGINAL-URL:https://amacfoundation.org
X-WR-CALDESC:Events for AMAC Foundation
REFRESH-INTERVAL;VALUE=DURATION:PT1H
X-Robots-Tag:noindex
X-PUBLISHED-TTL:PT1H
BEGIN:VTIMEZONE
TZID:America/New_York
BEGIN:DAYLIGHT
TZOFFSETFROM:-0500
TZOFFSETTO:-0400
TZNAME:EDT
DTSTART:20220313T070000
END:DAYLIGHT
BEGIN:STANDARD
TZOFFSETFROM:-0400
TZOFFSETTO:-0500
TZNAME:EST
DTSTART:20221106T060000
END:STANDARD
BEGIN:DAYLIGHT
TZOFFSETFROM:-0500
TZOFFSETTO:-0400
TZNAME:EDT
DTSTART:20230312T070000
END:DAYLIGHT
BEGIN:STANDARD
TZOFFSETFROM:-0400
TZOFFSETTO:-0500
TZNAME:EST
DTSTART:20231105T060000
END:STANDARD
BEGIN:DAYLIGHT
TZOFFSETFROM:-0500
TZOFFSETTO:-0400
TZNAME:EDT
DTSTART:20240310T070000
END:DAYLIGHT
BEGIN:STANDARD
TZOFFSETFROM:-0400
TZOFFSETTO:-0500
TZNAME:EST
DTSTART:20241103T060000
END:STANDARD
END:VTIMEZONE
BEGIN:VEVENT
DTSTART;TZID=America/New_York:20230601T000000
DTEND;TZID=America/New_York:20231231T235959
DTSTAMP:20260424T164600
CREATED:20230531T211840Z
LAST-MODIFIED:20230712T170606Z
UID:10000272-1685577600-1704067199@amacfoundation.org
SUMMARY:2023 Volunteerism & Recommendations
DESCRIPTION:Ongoing Event – Sign up to volunteer\, Recommend topics\, Inquire\, or Donate.   \n\n\n\n\n\n\n\n\n\nInterested in volunteering in the Lady Lake\, FL with us?  Maybe you are elsewhere\, but still want to find ways to volunteer?  Or how about just share some ideas?  There are multiple ways that we could use your help!  \n\n\n\nPlease see the information below and complete the appropriate form! If you aren’t interested in volunteering\, but still want to support us\, feel free to donate here. \n\n\n\nGeneral – Volunteerism & Recommendations (no specified location) \n\n\n\nWe are looking for volunteers for the upcoming Adult Literacy Program that is in the planning phase to start September 2023: \n\n\n\nAdult Literacy Tutor (help those with reading and writing) \n\n\n\nVolunteer English Tutor (help those who are learning the English language)
URL:https://amacfoundation.org/event/2023-volunteerism-recommendations/
ATTACH;FMTTYPE=image/jpeg:https://amacfoundation.org/wp-content/uploads/2023/05/volunteers-needed-symbol-volunteering-service-sign-vector.jpg_s1024x1024wisk20cBBttFhwfAdXbuM65hP2S7fryJRDzibsB6xxK6Zte5q0.jpg
END:VEVENT
BEGIN:VEVENT
DTSTART;TZID=America/New_York:20231003T103000
DTEND;TZID=America/New_York:20231003T120000
DTSTAMP:20260424T164600
CREATED:20230808T185148Z
LAST-MODIFIED:20230911T134245Z
UID:10000349-1696329000-1696334400@amacfoundation.org
SUMMARY:10 Warning Signs of Alzheimer's (The Villages\, FL)
DESCRIPTION:The Villages Library\, Pinellas Plaza@ 7375 Powell Road\, Wildwood\, FL 34785\n\n\n\n10 Warning Signs of Alzheimer’s – An Education Program presented by the Alzheimer’s Association \n\n\n\n\n\n\n\nAlzheimer’s and other dementias cause memory\, thinking and behavior problems that interfere with daily living. Join us to learn how to recognize common signs of Alzheimer’s disease. Learn how to approach someone about memory concerns\, the importance of early detection and benefits of a diagnosis\, possible tests and assessments for the diagnostic process\, and Alzheimer’s Association resources. \n\n\n\n\n\n\n\nPresentation delivered by Kari Walker. Kari is an experienced program director and health educator in the senior care industry. She is driven by a passion to equip and empower others with the information they need to make the best possible decisions about their health and well-being. As a Population Health Specialist with The Villages Health\, her goals include creating a “Dementia Friendly” community in The Villages as well as implementing specialized programs tailored to reduce diabetes and fall risk. She holds a Master’s degree in Gero-Kinesiology and is a Certified Dementia Practitioner. Currently\, she and her husband share their home in The Villages with their Dusky headed Conure and Chihuahua.
URL:https://amacfoundation.org/event/10-warning-signs-of-alzheimers/
LOCATION:The Villages Library\, Pinellas Plaza\,  7375 Powell Road\, Wildwood\, FL 34785\, 7375 Powell Road\, Wildwood\, Florida\, 34785
ATTACH;FMTTYPE=image/png:https://amacfoundation.org/wp-content/uploads/2023/08/202310-10-Warning-Signs-of-Alzheimers_IG-sq.png
END:VEVENT
BEGIN:VEVENT
DTSTART;TZID=America/New_York:20231007T000000
DTEND;TZID=America/New_York:20231007T235959
DTSTAMP:20260424T164600
CREATED:20230710T145326Z
LAST-MODIFIED:20230710T145613Z
UID:10000344-1696636800-1696723199@amacfoundation.org
SUMMARY:Walk to End Alzheimer's The Villages\, FL
DESCRIPTION:Walk to End Alzheimer’s events in Ocala. For more information and to register a team\, click the link:  \n\n\n\nRegister for the Walk to End Alzheimer’s – The Villages \n\n\n\nNot in The Villages\, FL area but interested in walking?  Visit Walk to End Alzheimer’s \n\n\n\nInterested in riding instead – Look here for bike events
URL:https://amacfoundation.org/event/walk-to-end-alzheimers-the-villages-fl/
ATTACH;FMTTYPE=image/png:https://amacfoundation.org/wp-content/uploads/2023/07/WTEA-color-email-stationery.png
END:VEVENT
BEGIN:VEVENT
DTSTART;TZID=America/New_York:20231014T000000
DTEND;TZID=America/New_York:20231014T235959
DTSTAMP:20260424T164600
CREATED:20230710T144807Z
LAST-MODIFIED:20230710T145555Z
UID:10000343-1697241600-1697327999@amacfoundation.org
SUMMARY:Walk to End Alzheimer's\, Ocala FL
DESCRIPTION:Walk to End Alzheimer’s events in Ocala. For more information and to register a team\, click the link below: \n\n\n\nRegister for the Walk to End Alzheimer’s – Ocala \n\n\n\n \n\n\n\nNot in the Ocala area but interested in walking?  Visit Walk to End Alzheimer’s \n\n\n\nInterested in riding instead – Look here for bike events
URL:https://amacfoundation.org/event/alzheimers-walk-ocala-fl/
ATTACH;FMTTYPE=image/png:https://amacfoundation.org/wp-content/uploads/2023/07/WTEA-color-email-stationery.png
END:VEVENT
BEGIN:VEVENT
DTSTART;TZID=America/New_York:20231017T100000
DTEND;TZID=America/New_York:20231017T120000
DTSTAMP:20260424T164600
CREATED:20230803T153217Z
LAST-MODIFIED:20230911T134440Z
UID:10000348-1697536800-1697544000@amacfoundation.org
SUMMARY:Sudden Death Seminar Series - Fall 2 (Oct; Lady Lake\, FL)
DESCRIPTION:This is a 3-part series at Lady Lake Public LibraryOctober 17\, 24\, 31 (Tuesdays) from 10:00am – 12:00pm\n\n\n\nLady Lake Public Library225 W. Guava Street\, Lady Lake\, FL 32159\n\n\n\nIf you passed away tomorrow\, will your loved ones know what to do? Will they know where your financial information and tax records\, insurance records\, and investment documents are stored? Will they be able to locate your most current will\, health care directives\, and documented funeral wishes? Can they locate important household documents\, like deeds\, car titles\, and pension statements? \n\n\n\nThe list goes on and on\, but the important point is that having this type of pertinent information organized and available in a structured place is something you can do in advance for those you leave behind. It’s a big task and it’s not an easy one…we know that. But with a structured approach\, you can create a living document that will prove invaluable to your loved ones. \n\n\n\nThis seminar has been structured to guide you through the process of creating your “Survivor Notebook\,” the repository that will help your loved ones cope after your passing. Conducted in three separate two-hour sessions\, we’ll walk you through identifying what needs to be considered\, assembling the material as we go in an accessible format\, and we’ll be developing an approach to maintaining the material so that it’s always current. You’ll leave with a physical roadmap that will be of immeasurable value to your family. \n\n\n\nThere is no cost for this workshop series\, but attendance is limited so you must register to attend. Light refreshments will be served at each session. Notebook materials will be provided.  \n\n\n\n\n\n\n\nPre-Registering Required\n\n\n\nThis seminar has a considerable amount of work leading up to the event and interaction between speakers and participants – Participants will receive formal notebook and various reference materials\, all assembled in advance. We prefer to collect registrations ahead of time; although we will have additional handouts\, it is difficult to accommodate walk-ins for this event. \n\n\n\nIf you register and find you are unable to attend\, please let us know\, so we can offer that space to someone on our waiting list.
URL:https://amacfoundation.org/event/sudden-death-seminar-series-fall-2-oct/
ATTACH;FMTTYPE=image/png:https://amacfoundation.org/wp-content/uploads/2023/08/202310-Sudden-Death.png
END:VEVENT
BEGIN:VEVENT
DTSTART;TZID=America/New_York:20231019T100000
DTEND;TZID=America/New_York:20231019T100000
DTSTAMP:20260424T164600
CREATED:20230828T170318Z
LAST-MODIFIED:20231019T005350Z
UID:10000351-1697709600-1697709600@amacfoundation.org
SUMMARY:Caregiver's Guide to Finances (webinar)
DESCRIPTION:Spots Still Open!!!  Register Below  – Zoom Link in Confirmation Email!\n\n\n\nIf you or someone you know is facing Alzheimer’s disease\, dementia or another chronic illness\, it’s never too early to put financial plans in place. \n\n\n\nJoin us to learn tips for managing someone else’s finances\, how to prepare for future care costs\, and the benefits of early planning. Learn to identify steps to lower the chances of financial abuse and fraud.  \n\n\n\n\n\n\n\nSpeakers:\n\n\n\n\n\n\n\nConnie Storms is the Program Manager for Marion\, Lake\, and Sumter Counties\, Alzheimer’s Association. Connie’s background includes degrees in Nutrition and Nonprofit Management and over 25 years of work with human service or faith-based organizations. She was a caregiver for a parent with Alzheimer’s disease for over 10 years so she has a special place in her heart for caregivers and family members of people living with dementia. \n\n\n\n\n\n\n\n\n\n\n\nTom spent over 25 years working with Merck and other pharmaceutical companies specializing in field training and speaker development.  He has been an Alzheimer’s Community Educator with the Alzheimer’s Association for 4 years and resides in Ormond Beach\, Florida. 
URL:https://amacfoundation.org/event/caregivers-guide-to-finances-webinar/
ATTACH;FMTTYPE=image/png:https://amacfoundation.org/wp-content/uploads/2023/08/Caregivers-Guide-to-Finances-1.png
END:VEVENT
BEGIN:VEVENT
DTSTART;TZID=America/New_York:20231020T130000
DTEND;TZID=America/New_York:20231020T130000
DTSTAMP:20260424T164600
CREATED:20230911T192020Z
LAST-MODIFIED:20231019T011144Z
UID:10000353-1697806800-1697806800@amacfoundation.org
SUMMARY:Medicare Fundamentals (webinar)
DESCRIPTION:Spots Still Open!!! Register Below – Zoom Link in Confirmation Email!\n\n\n\nAs important as Medicare is to the well-being of American seniors\, its complexity often leaves those approaching eligibility bewildered. Presented by AMAC Foundation Social Security Advisors\, Russ “Ask Rusty” Gloor and Eileen Cook\, they will navigate through many topic areas\, such as: \n\n\n\nWhat are the different “Parts” of the program?   \n\n\n\nWhat does it cover (and not cover)?  \n\n\n\nDo I need additional coverage?  \n\n\n\nWhat if I am still working and have employer coverage?  \n\n\n\nWhat happens if I don’t enroll?  \n\n\n\nHow much does it cost?   \n\n\n\nWhat if I have a Health Savings Account?  \n\n\n\nThese and many other questions will be answered in this Medicare Fundamentals webinar sure to be helpful to anyone approaching age 65\, or any professional or family member who assists them. Don’t miss this opportunity to expand your knowledge of the nation’s most important healthcare program. Click below to register!
URL:https://amacfoundation.org/event/medicare-fundamentals-webinar/
ATTACH;FMTTYPE=image/png:https://amacfoundation.org/wp-content/uploads/2023/09/20231020_Medicare-Fundamentals_IG-sq.png
END:VEVENT
BEGIN:VEVENT
DTSTART;TZID=America/New_York:20231021T080000
DTEND;TZID=America/New_York:20231021T080000
DTSTAMP:20260424T164600
CREATED:20230828T175846Z
LAST-MODIFIED:20230911T134353Z
UID:10000352-1697875200-1697875200@amacfoundation.org
SUMMARY:Wildwood Breast Cancer 5K (Wildwood\, FL)
DESCRIPTION:In honor of life-long resident\, Katrina Brooks\, the city is honoring Breast Cancer Awareness Month with this 5k\, along with medical professionals in the area bringing helpful information for screening\, a remembrance tent\, food trucks\, and live music. Perfect for all ages! \n\n\n\n\n\n\n\n\n\n\n\nVENDORS NEEDED\n\n\n\nClick graphic below to sign up as a vendor \n\n\n\n\n\n\n\n\n\n\n\n\n\n\n\nConsider being a volunteer with AMAC Foundation for this event.  We enjoy the connections we make that enhance the lives of our Seniors and Veterans throughout our community.\n\n\n\n* In the event inclement weather arises\, times of the event may be adjusted at the discretion of City of Wildwood Parks & Recreation Staff. If any changes are made\, an email will be sent and potential phone calls or text messages. \n\n\n\n** If you are volunteering from LSSC and need a form signed for volunteer hours or a note to add to your resume\, we will follow up after the event!
URL:https://amacfoundation.org/event/wildwood-breast-cancer-5k-fl/
LOCATION:Wildwood City Hall\, 100 North Main Street\, Wildwood\, Florida\, 34785
ATTACH;FMTTYPE=image/png:https://amacfoundation.org/wp-content/uploads/2023/08/Wildwood-oct-21-5k_event_IG-small.png
END:VEVENT
BEGIN:VEVENT
DTSTART;TZID=America/New_York:20231027T110000
DTEND;TZID=America/New_York:20231027T110000
DTSTAMP:20260424T164600
CREATED:20230711T171833Z
LAST-MODIFIED:20230911T134316Z
UID:10000345-1698404400-1698404400@amacfoundation.org
SUMMARY:AMAC Foundation - Social Security Myths (Altamonte Springs\, FL)
DESCRIPTION:Join us at One Senior Place\, Altamonte Springs\, FL\, for an info session on AMAC Foundation’s programs and services\, featuring a talk on Social Security Myths. \n\n\n\nRSVP to One Senior Place @ 407-949-6733
URL:https://amacfoundation.org/event/amac-foundation-info-session/
LOCATION:One Senior Place\, 715 Douglas Avenue\, Altamonte Springs\, Florida\, 32714\, United States
ATTACH;FMTTYPE=image/png:https://amacfoundation.org/wp-content/uploads/2021/12/foundation-1230.png
END:VEVENT
END:VCALENDAR