BEGIN:VCALENDAR
VERSION:2.0
PRODID:-//AMAC Foundation - ECPv6.15.15//NONSGML v1.0//EN
CALSCALE:GREGORIAN
METHOD:PUBLISH
X-WR-CALNAME:AMAC Foundation
X-ORIGINAL-URL:https://amacfoundation.org
X-WR-CALDESC:Events for AMAC Foundation
REFRESH-INTERVAL;VALUE=DURATION:PT1H
X-Robots-Tag:noindex
X-PUBLISHED-TTL:PT1H
BEGIN:VTIMEZONE
TZID:America/New_York
BEGIN:DAYLIGHT
TZOFFSETFROM:-0500
TZOFFSETTO:-0400
TZNAME:EDT
DTSTART:20220313T070000
END:DAYLIGHT
BEGIN:STANDARD
TZOFFSETFROM:-0400
TZOFFSETTO:-0500
TZNAME:EST
DTSTART:20221106T060000
END:STANDARD
BEGIN:DAYLIGHT
TZOFFSETFROM:-0500
TZOFFSETTO:-0400
TZNAME:EDT
DTSTART:20230312T070000
END:DAYLIGHT
BEGIN:STANDARD
TZOFFSETFROM:-0400
TZOFFSETTO:-0500
TZNAME:EST
DTSTART:20231105T060000
END:STANDARD
BEGIN:DAYLIGHT
TZOFFSETFROM:-0500
TZOFFSETTO:-0400
TZNAME:EDT
DTSTART:20240310T070000
END:DAYLIGHT
BEGIN:STANDARD
TZOFFSETFROM:-0400
TZOFFSETTO:-0500
TZNAME:EST
DTSTART:20241103T060000
END:STANDARD
END:VTIMEZONE
BEGIN:VEVENT
DTSTART;TZID=America/New_York:20230601T000000
DTEND;TZID=America/New_York:20231231T235959
DTSTAMP:20260424T221440
CREATED:20230531T211840Z
LAST-MODIFIED:20230712T170606Z
UID:10000272-1685577600-1704067199@amacfoundation.org
SUMMARY:2023 Volunteerism & Recommendations
DESCRIPTION:Ongoing Event – Sign up to volunteer\, Recommend topics\, Inquire\, or Donate.   \n\n\n\n\n\n\n\n\n\nInterested in volunteering in the Lady Lake\, FL with us?  Maybe you are elsewhere\, but still want to find ways to volunteer?  Or how about just share some ideas?  There are multiple ways that we could use your help!  \n\n\n\nPlease see the information below and complete the appropriate form! If you aren’t interested in volunteering\, but still want to support us\, feel free to donate here. \n\n\n\nGeneral – Volunteerism & Recommendations (no specified location) \n\n\n\nWe are looking for volunteers for the upcoming Adult Literacy Program that is in the planning phase to start September 2023: \n\n\n\nAdult Literacy Tutor (help those with reading and writing) \n\n\n\nVolunteer English Tutor (help those who are learning the English language)
URL:https://amacfoundation.org/event/2023-volunteerism-recommendations/
ATTACH;FMTTYPE=image/jpeg:https://amacfoundation.org/wp-content/uploads/2023/05/volunteers-needed-symbol-volunteering-service-sign-vector.jpg_s1024x1024wisk20cBBttFhwfAdXbuM65hP2S7fryJRDzibsB6xxK6Zte5q0.jpg
END:VEVENT
BEGIN:VEVENT
DTSTART;TZID=America/New_York:20230710T000000
DTEND;TZID=America/New_York:20230726T235959
DTSTAMP:20260424T221440
CREATED:20230710T135125Z
LAST-MODIFIED:20230710T135246Z
UID:10000342-1688947200-1690415999@amacfoundation.org
SUMMARY:Back to School Supply Drive (Lady Lake\, FL)
DESCRIPTION:AMAC Foundation is supporting American House Wildwood (Wildwood\, FL) with a school supply drive.  Please support local families and children in need of the upcoming school year.   \n\n\n\nCall AMAC Foundation at 888-750-2622 for drop off times and more information.
URL:https://amacfoundation.org/event/back-to-school-supply-drive/
ATTACH;FMTTYPE=image/jpeg:https://amacfoundation.org/wp-content/uploads/2023/07/2023-back-to-school_american-house_-external.jpg
END:VEVENT
BEGIN:VEVENT
DTSTART;TZID=America/New_York:20230714T100000
DTEND;TZID=America/New_York:20230714T120000
DTSTAMP:20260424T221440
CREATED:20230512T192931Z
LAST-MODIFIED:20230613T180201Z
UID:10000270-1689328800-1689336000@amacfoundation.org
SUMMARY:Sudden Death Seminar Series - July 2023
DESCRIPTION:This is a 3-part series at Fairway Christian Church (Fellowship Room)    Fridays – July 14\, 21\, and 28 – 10:00-12:00 pm     8400 E County Rd 466\, The Villages\, FL 32162  \n\n\n\n\n\n\n\n  REGISTRATION FULL    THERE IS A WAITLIST FOR THIS EVENT.  You may be interested in the upcoming Sudden Death Series in August\n\n\n\n\n\n\n\nIf you passed away tomorrow\, will your loved ones know what to do? Will they know where your financial information and tax records\, insurance records\, and investment documents are stored? Will they be able to locate your most current will\, health care directives\, and documented funeral wishes? Can they locate important household documents\, like deeds\, car titles\, and pension statements? \n\n\n\nThe list goes on and on\, but the important point is that having this type of pertinent information organized and available in a structured place is something you can do in advance for those you leave behind. It’s a big task and it’s not an easy one…we know that. But with a structured approach\, you can create a living document that will prove invaluable to your loved ones. \n\n\n\nThis seminar has been structured to guide you through the process of creating your “Survivor Notebook\,” the repository that will help your loved ones cope after your passing. Conducted in three separate two-hour sessions\, we’ll walk you through identifying what needs to be considered\, assembling the material as we go in an accessible format\, and we’ll be developing an approach to maintaining the material so that it’s always current. You’ll leave with a physical roadmap that will be of immeasurable value to your family. \n\n\n\nThere is no cost for this workshop series\, but attendance is limited so you must register to attend. Light refreshments will be served at each session. Notebook materials will be provided.  \n\n\n\n\n\n\n\nREGISTRATION FULL AT THIS TIMEFor waitlist\, contact the AMAC Foundation at 888-750-2622 or email info@amacfoundation.org\n\n\n\n\n\n\n\nPre-Registering Required\n\n\n\nThis seminar has a considerable amount of work leading up to the event and interaction between speakers and participants – Participants will receive formal notebook and various reference materials\, all assembled in advance. We prefer to collect registrations ahead of time; although we will have additional handouts\, it is difficult to accommodate walk-ins for this event.   \n\n\n\nIf you register and find you are unable to attend\, please let us know\, so we can offer that space to someone on our waiting list. \n\n\n\n\n\n\n\nFor questions\, contact the AMAC Foundation at 888-750-2622 or email info@amacfoundation.org
URL:https://amacfoundation.org/event/sudden-death-seminar-series-july-2023/
LOCATION:Fairway Christian Church\, 8400 E County Rd 466\, The Villages\, Florida\, 32162\, United States
ATTACH;FMTTYPE=image/png:https://amacfoundation.org/wp-content/uploads/2023/05/af-event-sudden-death-seminar-052223-INSTAGRAM.png
END:VEVENT
BEGIN:VEVENT
DTSTART;TZID=America/New_York:20230721T090000
DTEND;TZID=America/New_York:20230721T140000
DTSTAMP:20260424T221440
CREATED:20230713T000916Z
LAST-MODIFIED:20230713T001451Z
UID:10000346-1689930000-1689948000@amacfoundation.org
SUMMARY:Cornerstone Hospice - Golf Cart Poker Run\, The Villages\, FL
DESCRIPTION:All proceeds go to the American Cancer Society. Details below! \n\n\n\nFor more information\, contact Brittany Carlson @ 352-531-1436
URL:https://amacfoundation.org/event/cornerstone-hospice-the-villages-golf-cart-poker-run/
ATTACH;FMTTYPE=image/jpeg:https://amacfoundation.org/wp-content/uploads/2023/07/fundraising-event-vector-lettering-banners.jpg_s1024x1024wisk20cbOiNMjYwpQQTSU0P3arkCi64yIqzeJwqFhHEm7rIk_8-1.jpg
END:VEVENT
END:VCALENDAR