BEGIN:VCALENDAR
VERSION:2.0
PRODID:-//AMAC Foundation - ECPv6.15.15//NONSGML v1.0//EN
CALSCALE:GREGORIAN
METHOD:PUBLISH
X-WR-CALNAME:AMAC Foundation
X-ORIGINAL-URL:https://amacfoundation.org
X-WR-CALDESC:Events for AMAC Foundation
REFRESH-INTERVAL;VALUE=DURATION:PT1H
X-Robots-Tag:noindex
X-PUBLISHED-TTL:PT1H
BEGIN:VTIMEZONE
TZID:America/New_York
BEGIN:DAYLIGHT
TZOFFSETFROM:-0500
TZOFFSETTO:-0400
TZNAME:EDT
DTSTART:20220313T070000
END:DAYLIGHT
BEGIN:STANDARD
TZOFFSETFROM:-0400
TZOFFSETTO:-0500
TZNAME:EST
DTSTART:20221106T060000
END:STANDARD
BEGIN:DAYLIGHT
TZOFFSETFROM:-0500
TZOFFSETTO:-0400
TZNAME:EDT
DTSTART:20230312T070000
END:DAYLIGHT
BEGIN:STANDARD
TZOFFSETFROM:-0400
TZOFFSETTO:-0500
TZNAME:EST
DTSTART:20231105T060000
END:STANDARD
BEGIN:DAYLIGHT
TZOFFSETFROM:-0500
TZOFFSETTO:-0400
TZNAME:EDT
DTSTART:20240310T070000
END:DAYLIGHT
BEGIN:STANDARD
TZOFFSETFROM:-0400
TZOFFSETTO:-0500
TZNAME:EST
DTSTART:20241103T060000
END:STANDARD
END:VTIMEZONE
BEGIN:VEVENT
DTSTART;TZID=America/New_York:20230202T190000
DTEND;TZID=America/New_York:20230202T203000
DTSTAMP:20260425T115432
CREATED:20230130T130926Z
LAST-MODIFIED:20230130T130927Z
UID:10000264-1675364400-1675369800@amacfoundation.org
SUMMARY:ACRU - Muster with Allen West
DESCRIPTION:American Constitutional Rights Union (ACRU) monitors and counters threats to our constitutional rights and promotes government transparency and constitutional government. Please join LTC Allen West and Captain Jonathan Dobbs for an important webinar briefing about the problem of growing crime.  Register and find more details on ACRU – Muster with Allen West in the link below. \n\n\n\n\nhttps://theacru.org/event/muster-with-allen-west-the-lefts-love-of-lawlessness/\n\n\n\n\n\n\n\n\n\n\n\n\nAMAC Foundation works with other organizations to ensure our Senior communities are connected to information\, education\, resources\, and events. This event is not sponsored or delivered by AMAC Foundation – it is being shared as a courtesy to other local organizations.\n\n\n\nNotice: The links provided above connect readers to the full content of the referenced information. The URLs (internet addresses) for these links are valid on the posted date. AmacFoundation.org cannot guarantee the duration of the links’ validity. Also\, the opinions expressed in these postings are the viewpoints of the original source and are not explicitly endorsed by AMAC\, Inc. or the AMAC Foundation\, Inc. Providing linkage to external websites does not constitute endorsement of products or services advertised thereon.
URL:https://amacfoundation.org/event/acru-muster-with-allen-west/
ATTACH;FMTTYPE=image/png:https://amacfoundation.org/wp-content/uploads/2022/10/ACRU-logo.png
END:VEVENT
BEGIN:VEVENT
DTSTART;TZID=America/New_York:20230208T083000
DTEND;TZID=America/New_York:20230208T163000
DTSTAMP:20260425T115432
CREATED:20230109T193910Z
LAST-MODIFIED:20230109T193912Z
UID:10000262-1675845000-1675873800@amacfoundation.org
SUMMARY:Best Practices in Dementia Care
DESCRIPTION:In-depth workshop\, featuring Teepa Snow. To learn more about strategies for helping people with dementia\, please order tickets athospiceofmarion.com  \n\n\n\nFor additional information\, you may reach out to Lanie Shirey at 352-843-2075 or lshirey@hospiceofmarion.com \n\n\n\n\n\n\n\n\n\n\n\n\n\n\n\n\n\n\n\n\n\n\n\nAMAC Foundation is working with other organizations to ensure our Senior communities are connected to information\, education\, resources\, and events. This event is not sponsored or delivered by AMAC Foundation – it is being shared as a courtesy to other local organizations.  \n\n\n\nNotice: The links provided above connect readers to the full content of the referenced information. The URLs (internet addresses) for these links are valid on the posted date; AmacFoundation.org cannot guarantee the duration of the links’ validity. Also\, the opinions expressed in these postings are the viewpoints of the original source and are not explicitly endorsed by AMAC\, Inc. or the AMAC Foundation\, Inc. Providing linkage to external websites does not constitute endorsement of products or services advertised thereon.
URL:https://amacfoundation.org/event/best-practices-in-dementia-care/
LOCATION:Church of Hope\, 3233 SE Maricamp Rd\, Ocala\, Florida\, 34471
ATTACH;FMTTYPE=image/jpeg:https://amacfoundation.org/wp-content/uploads/2020/03/dreamstime_m_25486550dementia-alzheimers-memory-loss-caregivers.jpg
END:VEVENT
END:VCALENDAR