BEGIN:VCALENDAR
VERSION:2.0
PRODID:-//AMAC Foundation - ECPv6.15.15//NONSGML v1.0//EN
CALSCALE:GREGORIAN
METHOD:PUBLISH
X-WR-CALNAME:AMAC Foundation
X-ORIGINAL-URL:https://amacfoundation.org
X-WR-CALDESC:Events for AMAC Foundation
REFRESH-INTERVAL;VALUE=DURATION:PT1H
X-Robots-Tag:noindex
X-PUBLISHED-TTL:PT1H
BEGIN:VTIMEZONE
TZID:America/New_York
BEGIN:DAYLIGHT
TZOFFSETFROM:-0500
TZOFFSETTO:-0400
TZNAME:EDT
DTSTART:20210314T070000
END:DAYLIGHT
BEGIN:STANDARD
TZOFFSETFROM:-0400
TZOFFSETTO:-0500
TZNAME:EST
DTSTART:20211107T060000
END:STANDARD
BEGIN:DAYLIGHT
TZOFFSETFROM:-0500
TZOFFSETTO:-0400
TZNAME:EDT
DTSTART:20220313T070000
END:DAYLIGHT
BEGIN:STANDARD
TZOFFSETFROM:-0400
TZOFFSETTO:-0500
TZNAME:EST
DTSTART:20221106T060000
END:STANDARD
BEGIN:DAYLIGHT
TZOFFSETFROM:-0500
TZOFFSETTO:-0400
TZNAME:EDT
DTSTART:20230312T070000
END:DAYLIGHT
BEGIN:STANDARD
TZOFFSETFROM:-0400
TZOFFSETTO:-0500
TZNAME:EST
DTSTART:20231105T060000
END:STANDARD
END:VTIMEZONE
BEGIN:VEVENT
DTSTART;TZID=America/New_York:20221101T120000
DTEND;TZID=America/New_York:20221101T133000
DTSTAMP:20260425T204119
CREATED:20220907T170625Z
LAST-MODIFIED:20220907T170633Z
UID:10000325-1667304000-1667309400@amacfoundation.org
SUMMARY:One More Day Straight talk Suicide Prevention chat with SEAC Ramon Colon-Lopez
DESCRIPTION:Join the One More Day Straight Talk Live broadcast with Ramon (CZ) Colon-Lopez. \n\n\n\nNote: Time Zone is MST. \n\n\n\nOne More Day Straight Talk with Ramon (CZ) Colon-Lopez\, Senior Enlisted Advisor to the Chairman of the Joint Chiefs. We will be talking about the ways that the Joint Chiefs are combatting suicide throughout the DoD as well as the best ways to destigmatize mental health issues. \n\n\n\nNOTE: This event is presented by One More Day Inc.\, a Veteran-Operated nonprofit VSO/MSO dedicated to ending the loss of our nation’s cherished Veterans at the hands of suicide. The AMAC Foundation is partnering with One More Day as part of the AMAC Veterans 2021 Project. If you have any questions\, please contact One More Day Suicide Prevention at 208-600-4571 or visit their website at http://www.suicide-prevention.org or Facebook.com/onemoreday. \n\n\n\nTo register for this event\, click here.
URL:https://amacfoundation.org/event/one-more-day-straight-talk-suicide-prevention-chat-with-seac-ramon-colon-lopez/
ATTACH;FMTTYPE=image/jpeg:https://amacfoundation.org/wp-content/uploads/2022/09/iStock-1372962342veteran-suicide-despair-hopeless.jpg
END:VEVENT
BEGIN:VEVENT
DTSTART;TZID=America/New_York:20221102T190000
DTEND;TZID=America/New_York:20221102T190000
DTSTAMP:20260425T204119
CREATED:20221031T093220Z
LAST-MODIFIED:20221031T093222Z
UID:10000334-1667415600-1667415600@amacfoundation.org
SUMMARY:Protecting the Rights of Senior Voters
DESCRIPTION:Join American Constitutional Rights Union (ACRU) for an update on how to help protect the rights of senior voters and those who are part of the most vulnerable voter population in America.  \n\n\n\nRegister by clicking here or copy and paste the link below into your web browser
URL:https://amacfoundation.org/event/protect-vulnerable-voters/
ATTACH;FMTTYPE=image/png:https://amacfoundation.org/wp-content/uploads/2022/10/ACRU-logo.png
END:VEVENT
BEGIN:VEVENT
DTSTART;TZID=America/New_York:20221118T140000
DTEND;TZID=America/New_York:20221118T153000
DTSTAMP:20260425T204119
CREATED:20220908T233338Z
LAST-MODIFIED:20221116T201805Z
UID:10000328-1668780000-1668785400@amacfoundation.org
SUMMARY:Straight Talk with Dr Liz Clark
DESCRIPTION:Dr. Liz Clark is the Acting Director of the Defense Suicide Prevention Office (DSPO) in the Office of the Under Secretary of Defense for Personnel and Readiness. In this position\, she is responsible for policy\, oversight\, and advocacy of U.S. Department of Defense (DoD) suicide prevention programs\, which include suicide prevention\, intervention\, and postvention efforts\, including policy\, program development and evaluation\, data surveillance\, research\, and outreach and engagement in support of more than 2 million Service members and more than 2.5 million military family members worldwide. \n\n\n\nDr. Clark brings more than 20 years of service spanning the Federal Government and military service. Prior to her current assignment\, Dr. Clark was the Deputy Executive Director for the PREVENTS Task Force\, created by Presidential Executive Order 13861\, and charged with developing the first federally coordinated national public health strategy and roadmap to address veteran suicide. \n\n\n\nFrom 2015 to 2020\, Dr. Clark served as the Director and Assistant Director of the DSPO Policy and Plans Directorate and was responsible for developing suicide prevention\, intervention\, and postvention policies\, guidance\, and strategic planning. Dr. Clark brings an array of suicide prevention experience to the Department through her previous work as a volunteer hotline crisis worker answering the National Suicide Prevention Lifeline\, as well as establishing and leading a suicide bereavement support group in the Washington\, D.C.\, Metropolitan area. \n\n\n\nDr. Clark also served as an Army officer from 1999 – 2008 in the Ordnance Corps and Adjutant General Corps\, and had a variety of assignments at the installation level\, Army Staff\, and National Guard Bureau. \n\n\n\nDr. Clark holds a Doctorate in Education in Leadership and Learning in Organizations from Vanderbilt University\, a Master’s Degree in Human Resources Management from Georgetown University\, and a Bachelor’s Degree in Sociology from McDaniel College. \n\n\n\nNOTE: This event is presented by One More Day Inc.\, a Veteran-Operated nonprofit VSO/MSO dedicated to ending the loss of our nation’s cherished Veterans at the hands of suicide. The AMAC Foundation is partnering with One More Day as part of the AMAC Veterans 2021 Project. If you have any questions\, please contact One More Day Suicide Prevention at 208-600-4571 or visit their website at http://www.suicide-prevention.org or Facebook.com/onemoreday. \n\n\n\nTo register for this event\, click here… \n\n\n\nEvent time: 2-3:30pm Eastern / 12-1:30pm Mountain
URL:https://amacfoundation.org/event/straight-talk-with-dr-liz-clark/
ATTACH;FMTTYPE=image/jpeg:https://amacfoundation.org/wp-content/uploads/2022/09/iStock-471548975arlington-cemetary.jpg
END:VEVENT
BEGIN:VEVENT
DTSTART;TZID=America/New_York:20221130T100000
DTEND;TZID=America/New_York:20221130T120000
DTSTAMP:20260425T204119
CREATED:20221027T171244Z
LAST-MODIFIED:20221115T203140Z
UID:10000333-1669802400-1669809600@amacfoundation.org
SUMMARY:Coping with Loss (in person)
DESCRIPTION:Coping with Loss During the Holidays – Holiday Grief Made Better\n\n\n\nThere is hope for the holidays.  Vitas Healthcare invites you to join our event for those coping with the loss of a loved one during the holiday season. This special program includes a candle lighting ceremony in memory of our loved ones and an opportunity to share treasured memories. \n\n\n\nPresentation delivered by Molly Cardinal\, Bereavement Services Manager with VITAS.     \n\n\n\nTo register please contact AMAC Foundation at 888-750-2622 or email info@amacfoundation.org      \n\n\n\n     \n\n\n\n20221130_VITAS_Coping-with-loss-flyer-AMACDownload
URL:https://amacfoundation.org/event/holiday-grief-made-better/
LOCATION:Villages Public Library at Pinellas Plaza\, 7375 Powell Road Suite 100\, Wildwood\, Florida\, 34785
ATTACH;FMTTYPE=image/jpeg:https://amacfoundation.org/wp-content/uploads/2022/10/20220404_VITAS_Coping-with-loss-image.jpg
END:VEVENT
END:VCALENDAR