BEGIN:VCALENDAR
VERSION:2.0
PRODID:-//AMAC Foundation - ECPv6.15.15//NONSGML v1.0//EN
CALSCALE:GREGORIAN
METHOD:PUBLISH
X-WR-CALNAME:AMAC Foundation
X-ORIGINAL-URL:https://amacfoundation.org
X-WR-CALDESC:Events for AMAC Foundation
REFRESH-INTERVAL;VALUE=DURATION:PT1H
X-Robots-Tag:noindex
X-PUBLISHED-TTL:PT1H
BEGIN:VTIMEZONE
TZID:America/New_York
BEGIN:DAYLIGHT
TZOFFSETFROM:-0500
TZOFFSETTO:-0400
TZNAME:EDT
DTSTART:20210314T070000
END:DAYLIGHT
BEGIN:STANDARD
TZOFFSETFROM:-0400
TZOFFSETTO:-0500
TZNAME:EST
DTSTART:20211107T060000
END:STANDARD
BEGIN:DAYLIGHT
TZOFFSETFROM:-0500
TZOFFSETTO:-0400
TZNAME:EDT
DTSTART:20220313T070000
END:DAYLIGHT
BEGIN:STANDARD
TZOFFSETFROM:-0400
TZOFFSETTO:-0500
TZNAME:EST
DTSTART:20221106T060000
END:STANDARD
BEGIN:DAYLIGHT
TZOFFSETFROM:-0500
TZOFFSETTO:-0400
TZNAME:EDT
DTSTART:20230312T070000
END:DAYLIGHT
BEGIN:STANDARD
TZOFFSETFROM:-0400
TZOFFSETTO:-0500
TZNAME:EST
DTSTART:20231105T060000
END:STANDARD
END:VTIMEZONE
BEGIN:VEVENT
DTSTART;TZID=America/New_York:20220913T100000
DTEND;TZID=America/New_York:20220913T120000
DTSTAMP:20260425T235440
CREATED:20220628T210527Z
LAST-MODIFIED:20220912T152715Z
UID:10000321-1663063200-1663070400@amacfoundation.org
SUMMARY:Sudden Death: Are You Prepared?
DESCRIPTION:Attention: This event consists of three\, 2-hour sessions. \n\n\n\nHere are the dates for all 3 sessions: \n\n\n\nTuesday\, September 13\, 2022; Monday\, September 19\, 2022; Tuesday\, September 27\, 2022 — 10:00 am to Noon (EASTERN TIME)\n\n\n\nNote Location:  Villages Public Library at Pinellas Plaza\, 7375 Powell Road\, Wildwood\, FL 34785 \n\n\n\nLimited spots left. Register now!! Please check back for future sessions in 2023.\n\n\n\nProgram Description:\n\n\n\nIf you passed away tomorrow\, will your loved ones know what to do? Will they know where your financial information and tax records\, insurance records\, and investment documents are stored? Will they be able to locate your most current will\, health care directives\, and documented funeral wishes? Can they locate important household documents\, like deeds\, car titles\, and pension statements? \n\n\n\nThe list goes on and on\, but the important point is that having this type of pertinent information organized and available in a structured place is something you can do in advance for those you leave behind. It’s a big task and it’s not an easy one…we know that. But with a structured approach\, you can create a living document that will prove invaluable to your loved ones. \n\n\n\nThis seminar has been structured to guide you through the process of creating your “Survivor Notebook\,” the repository that will help your loved ones cope after your passing. Conducted in three separate two-hour sessions\, we’ll walk you through identifying what needs to be considered\, assembling the material as we go in an accessible format\, and we’ll be developing an approach to maintaining the material so that it’s always current. You’ll leave with a physical roadmap that will be of immeasurable value to your family. \n\n\n\nThere is no cost for this workshop series\, but attendance is limited so you must register to attend. Light refreshments will be served at each session. Notebook materials will be provided.  \n\n\n\nA Note on the Importance of Pre-Registering\n\n\n\nFor certain seminars (including the “Sudden death – Are You Prepared?” series)\, there is a considerable amount of interaction between the speakers and the participants\, so we prefer to limit the number of participants to 24. Also\, participants are provided resources in the form of a formal notebook and various reference materials\, all of which must be assembled in advance. Hence\, we need to carefully track the number of expected (and registered) attendees. While we can occasionally accommodate walk-ins\, that’s not always the case\, and unregistered folks then tend to be disappointed at having wasted time and effort. Finally\, since we also provide snacks for attendees\, it’s important that we know the audience size we need to plan for when we purchase our supplies the day before. \n\n\n\nAlso\, if after registering you find that you are unable to attend\, please let us know so we can offer that space to someone on our waiting list.\n\n\n\nTo register: Contact the AMAC Foundation\, 888-750-2622 or email: info@amacfoundation.org
URL:https://amacfoundation.org/event/sudden-death-are-you-prepared-9/
ATTACH;FMTTYPE=image/jpeg:https://amacfoundation.org/wp-content/uploads/2021/07/iStock-1277121269seniors-organizing-files-information-planning.jpg
END:VEVENT
BEGIN:VEVENT
DTSTART;TZID=America/New_York:20220921T100000
DTEND;TZID=America/New_York:20220921T113000
DTSTAMP:20260425T235440
CREATED:20220727T160858Z
LAST-MODIFIED:20220907T194429Z
UID:10000324-1663754400-1663759800@amacfoundation.org
SUMMARY:New to Medicare - 2022 Edition (Webinar)
DESCRIPTION:Get a complete understanding of Medicare and its components\n\n\n\nMany folks aging into Medicare eligibility\, as well as many already registered as Medicare beneficiaries\, will benefit from this workshop on the program’s structure\, rules\, and regulations. Our experts will cover: \n\n\n\n    Medicare’s Components  \n\n\n\n    Common Terms and Definitions  \n\n\n\n    Thoughts on Managing Health Care Expenses  \n\n\n\n    Your Medicare Options  \n\n\n\n    Medigap Plans and How They Work  \n\n\n\nHere are the details: \n\n\n\nPlease note that we are offering this seminar as a virtual (ZOOM) presentation\, and the session will be recorded for on-demand viewing.  \n\n\n\nClosed captioning will be used with the presentation. \n\n\n\nThere is no cost for this webinar\, but we require advance registration. Please contact the Foundation office (888-750-2622) or via email at info@AmacFoundation.org). The link to access the webinar will be sent the day before the event. \n\n\n\nThe deadline for registration is Monday\, September 19.
URL:https://amacfoundation.org/event/new-to-medicare-2022-edition-webinar/
ATTACH;FMTTYPE=image/jpeg:https://amacfoundation.org/wp-content/uploads/2017/03/medicare-buzzwords.jpg
END:VEVENT
BEGIN:VEVENT
DTSTART;TZID=America/New_York:20220930T120000
DTEND;TZID=America/New_York:20220930T133000
DTSTAMP:20260425T235440
CREATED:20220908T232040Z
LAST-MODIFIED:20220908T232047Z
UID:10000327-1664539200-1664544600@amacfoundation.org
SUMMARY:Straight Talk with Major General Gregg Martin
DESCRIPTION:Note: Time Zone is MST \n\n\n\nGregg F. Martin\, Ph.D.\, Major General\, US Army (Retired)\, served on active duty for 36 years\, until May 2015. He is a combat veteran\, Bipolar Survivor\, Airborne-Ranger-Engineer qualified soldier\, and Army Strategist. He holds a Ph.D. and two masters degrees from MIT\, masters degrees in national security strategy from both the Army and Naval war colleges\, and a bachelor’s degree from West Point. He commanded an engineer company\, battalion\, the 130th Engineer Brigade in combat during the first year of the Iraq War in 2003-04\, including the attack from Kuwait\, up the Euphrates River Valley\, to Baghdad and beyond. He served multiple overseas tours\, and\, as a general officer\, commanded the Corps of Engineers Northwest Division\, was Commandant of the Army Engineer School\, commanded Fort Leonard Wood\, was Deputy Commanding General of Third Army/US Army Central\, Commandant of the Army War College\, President of National Defense University\, and Special Assistant to the Chief of Engineers. He was awarded the Distinguished Service Medal (twice)\, the Bronze Star Medal\, and the Combat Action Badge. He is married with three sons\, two of whom are Army combat veterans\, and one an artist. His daughter-in-law is also an Army combat veteran. His wife is an “Army brat” and heroine for persevering through their Army career and surviving and overcoming their bipolar ordeal\, which has been the toughest fight of their lives. They live in Cocoa Beach\, FL\, where he is writing\, speaking\, and sharing his story of “battling bipolar disorder” to help save lives and stop the stigma. \n\n\n\nNOTE: This event is presented by One More Day Inc.\, a Veteran-Operated nonprofit VSO/MSO dedicated to ending the loss of our nation’s cherished Veterans at the hands of suicide. The AMAC Foundation is partnering with One More Day as part of the AMAC Veterans 2021 Project. If you have any questions\, please contact One More Day Suicide Prevention at 208-600-4571 or visit their website at http://www.suicide-prevention.org or Facebook.com/onemoreday. \n\n\n\nTo register for this event\, click here…
URL:https://amacfoundation.org/event/straight-talk-with-major-general-gregg-martin/
ATTACH;FMTTYPE=image/jpeg:https://amacfoundation.org/wp-content/uploads/2017/03/veterans2-min.jpg
END:VEVENT
END:VCALENDAR