BEGIN:VCALENDAR
VERSION:2.0
PRODID:-//AMAC Foundation - ECPv6.15.15//NONSGML v1.0//EN
CALSCALE:GREGORIAN
METHOD:PUBLISH
X-ORIGINAL-URL:https://amacfoundation.org
X-WR-CALDESC:Events for AMAC Foundation
REFRESH-INTERVAL;VALUE=DURATION:PT1H
X-Robots-Tag:noindex
X-PUBLISHED-TTL:PT1H
BEGIN:VTIMEZONE
TZID:America/New_York
BEGIN:DAYLIGHT
TZOFFSETFROM:-0500
TZOFFSETTO:-0400
TZNAME:EDT
DTSTART:20250309T070000
END:DAYLIGHT
BEGIN:STANDARD
TZOFFSETFROM:-0400
TZOFFSETTO:-0500
TZNAME:EST
DTSTART:20251102T060000
END:STANDARD
BEGIN:DAYLIGHT
TZOFFSETFROM:-0500
TZOFFSETTO:-0400
TZNAME:EDT
DTSTART:20260308T070000
END:DAYLIGHT
BEGIN:STANDARD
TZOFFSETFROM:-0400
TZOFFSETTO:-0500
TZNAME:EST
DTSTART:20261101T060000
END:STANDARD
BEGIN:DAYLIGHT
TZOFFSETFROM:-0500
TZOFFSETTO:-0400
TZNAME:EDT
DTSTART:20270314T070000
END:DAYLIGHT
BEGIN:STANDARD
TZOFFSETFROM:-0400
TZOFFSETTO:-0500
TZNAME:EST
DTSTART:20271107T060000
END:STANDARD
END:VTIMEZONE
BEGIN:VEVENT
DTSTART;TZID=America/New_York:20261217T140000
DTEND;TZID=America/New_York:20261217T150000
DTSTAMP:20260425T210309
CREATED:20260416T224643Z
LAST-MODIFIED:20260416T224652Z
UID:10004154-1797516000-1797519600@amacfoundation.org
SUMMARY:Building Coalitions and Influence Networks - Constitutional Academy (Course 12)
DESCRIPTION:Strengthening the Movement Through Relationships\n\n\n\nLasting impact is built through strong relationships. In this session\, participants will learn how to build and maintain networks within key centers of influence\, collaborate effectively with like-minded organizations\, and engage community stakeholders who support shared policy goals. The class will show how strategic relationship-building can strengthen advocacy efforts and grow a more connected\, effective movement. \n\n\n\nLearning Objectives \n\n\n\nBy the end of this class\, participants will be able to: \n\n\n\n\nBuild and maintain networks within centers of influence.\n\n\n\nCollaborate effectively with like-minded organization\n\n\n\nIdentify and engage community stakeholders who support policy goals.\n\n\n\nStrengthen long-term advocacy efforts through relationship-building.
URL:https://amacfoundation.org/event/building-coalitions-and-influence-networks-constitutional-academy-course-12/
LOCATION:Florida
ATTACH;FMTTYPE=image/jpeg:https://amacfoundation.org/wp-content/uploads/2026/04/Family-American-Flag.jpg
END:VEVENT
END:VCALENDAR