BEGIN:VCALENDAR
VERSION:2.0
PRODID:-//AMAC Foundation - ECPv6.15.15//NONSGML v1.0//EN
CALSCALE:GREGORIAN
METHOD:PUBLISH
X-WR-CALNAME:AMAC Foundation
X-ORIGINAL-URL:https://amacfoundation.org
X-WR-CALDESC:Events for AMAC Foundation
REFRESH-INTERVAL;VALUE=DURATION:PT1H
X-Robots-Tag:noindex
X-PUBLISHED-TTL:PT1H
BEGIN:VTIMEZONE
TZID:America/New_York
BEGIN:DAYLIGHT
TZOFFSETFROM:-0500
TZOFFSETTO:-0400
TZNAME:EDT
DTSTART:20160313T070000
END:DAYLIGHT
BEGIN:STANDARD
TZOFFSETFROM:-0400
TZOFFSETTO:-0500
TZNAME:EST
DTSTART:20161106T060000
END:STANDARD
BEGIN:DAYLIGHT
TZOFFSETFROM:-0500
TZOFFSETTO:-0400
TZNAME:EDT
DTSTART:20170312T070000
END:DAYLIGHT
BEGIN:STANDARD
TZOFFSETFROM:-0400
TZOFFSETTO:-0500
TZNAME:EST
DTSTART:20171105T060000
END:STANDARD
BEGIN:DAYLIGHT
TZOFFSETFROM:-0500
TZOFFSETTO:-0400
TZNAME:EDT
DTSTART:20180311T070000
END:DAYLIGHT
BEGIN:STANDARD
TZOFFSETFROM:-0400
TZOFFSETTO:-0500
TZNAME:EST
DTSTART:20181104T060000
END:STANDARD
END:VTIMEZONE
BEGIN:VEVENT
DTSTART;TZID=America/New_York:20171005T100000
DTEND;TZID=America/New_York:20171005T113000
DTSTAMP:20260423T010505
CREATED:20170728T180110Z
LAST-MODIFIED:20170926T210058Z
UID:10000214-1507197600-1507203000@amacfoundation.org
SUMMARY:Medicare Open Enrollment: Are You Ready? Have Questions?
DESCRIPTION:It’s no surprise to most of us of a certain age…Medicare Open Enrollment is racing toward us! If you’re new to Medicare\, or if you’re already a beneficiary with questions\, now’s the time to get the help you need. The AMAC Foundation has prepared an informative one-hour overview of the key points everyone needs to know for the 2018 enrollment cycle\, as well as the fundamentals surrounding this essential senior benefit program. \nThe Foundation will present this overview in a live seminar next Thursday\, October 5 at the AMAC office in Leesburg. We’ll cover the world of Medicare\, including: \nHow Medicare works \nThe time frames applicable to new sign-ups and changes to your coverage \nThe range of options you need to consider \nAnd many other topics! \nThe overview will be presented by a seasoned professional with extensive depth in the insurance industry. No products will be marketed during the discussion…it is simply a service to make new and existing beneficiaries comfortable with the many facets of Medicare. \nThe October 5 seminar will be held at 10:00 am and\, for those unable to attend the morning session\, we will be hosting a repeat session at 5:30 pm the same day. Also\, the seminar will be carried live on the internet\, and will be available for viewing at www.AmacFoundation.org/Live. We will also record the session for review afterward\, and it will be available at this same internet address. \nIf you plan on attending the live session at the Leesburg office\, contact the Foundation office (1-888-750-2622 or info@AmacFoundation.org) to register. Here are the details: \nTimes:  10:00 am and 5:30 am \nPlace:    Leesburg Offices \n2130 Talley Road \nLeesburg\, FL  34748 \nSeating is limited…deadline for registration is Monday\, October 2\, 2017 at 5:00 pm. \nNOTE LOCATION: This  session will be held at AMAC’s Leesburg Office…call for directions (888-750-2622). For more information or to register for this seminar\, contact: \nAMAC Foundation\n 312 Teague Trail\n Lady Lake\, FL 32159 \n1-888-750-2622\n info@amacfoundation.org
URL:https://amacfoundation.org/event/new-medicare-workshop-2/
LOCATION:AMAC\, Inc Offices\, 2130 Talley Road\, Building 1 Suite 100\, Leesburg\, FL\, 34748\, United States
ATTACH;FMTTYPE=image/jpeg:https://amacfoundation.org/wp-content/uploads/2017/05/dreamstime_s_56786036-©-Alexmillos-Dreamstime.com_-700x452medicare.jpg
END:VEVENT
BEGIN:VEVENT
DTSTART;TZID=America/New_York:20170920T100000
DTEND;TZID=America/New_York:20170920T100000
DTSTAMP:20260423T010505
CREATED:20170126T154256Z
LAST-MODIFIED:20170919T155543Z
UID:10000205-1505901600-1505901600@amacfoundation.org
SUMMARY:Sudden Death – Are You Prepared?
DESCRIPTION:(NOTE: This three-part workshop\, originally set to begin 9/13/2017\, has been rescheduled to begin Wednesday\, 9/20/2017…same time\, same place!)\nSudden Death: Are You Prepared?\nAttention: This event is comprised of three two-hour sessions.  \nHere are the dates of all three sessions: Wednesdays – September 20\, September 27\, and Thursday October 5 – 10:00 am to 12:00 pm \nIf you passed away tomorrow\, will your loved ones know what to do? Will they know where your financial information and tax records\, insurance records\, and investment documents are stored? Will they be able to locate your most current will\, health care directives\, and documented funeral wishes? Can they locate important household documents\, like deeds\, car titles\, and pension statements? \nThe list goes on and on\, but the important point is that having this type of pertinent information organized and available in a structured place is something you can do in advance for those you leave behind. It’s a big task and it’s not an easy one…we know that. But with a structured approach you can create a living document that will prove invaluable to your loved ones. \nThis seminar has been structured to guide you through the process of creating your “Survivor Notebook\,” the repository that will help your loved ones cope after your passing. Conducted in three separate two-hour sessions\, we’ll walk you through identifying what needs to be considered\, assembling the material as we go in an accessible format\, and we’ll be developing an approach to maintaining the material so that it’s always current. You’ll leave with a physical roadmap that will be of immeasurable value to your family. \nThere is no cost for this workshop series\, and light refreshments will be served at each session. Notebook materials will be provided \nTo register: \nContact the AMAC Foundation\, 888-750-2622 or email: info@amacfoundation.org
URL:https://amacfoundation.org/event/sudden-death-are-you-prepared-2/
LOCATION:Lady Lake Library Room 207\, 225 W Guava Street\, Lady Lake\, FL\, 32159\, United States
ATTACH;FMTTYPE=image/jpeg:https://amacfoundation.org/wp-content/uploads/2017/01/sudden-death-event.jpg
END:VEVENT
BEGIN:VEVENT
DTSTART;TZID=America/New_York:20170809T100000
DTEND;TZID=America/New_York:20170809T120000
DTSTAMP:20260423T010505
CREATED:20170522T125811Z
LAST-MODIFIED:20170801T144157Z
UID:10000210-1502272800-1502280000@amacfoundation.org
SUMMARY:Life After Cable...Entertainment Alternatives!
DESCRIPTION:To Access This Event Live\, Click AmacFoundation.org/Live\nCord-cutting–the act of severing the traditional link to cable television–has grown substantially in recent years as two factors collide: the availability of a host of new options on the home entertainment market\, and growing dissatisfaction with cable companies’  price/reliability/service model. On this first factor\, the past few years have brought services like Netflix\, Amazon Prime Video\, Sling TV\, Huku\, Roku\, and others into the mainstream vocabulary\, while on the second factor\, many households have begun to take exception to what is perceived as a continual ramp up of pricing from the cable companies and somewhat of a deterioration in reliability and service levels. \nFor many households\, price has been the driver to consider dropping their cable service in favor of a newer\, cheaper option. Yes\, the cable companies gleefully advertise that their contract gives you hundreds and hundreds of channels\, and it breaks down to perhaps pennies for each of them. But realistically\, how many different channels do you really want? Most people typical have only a handful of favorites\, maybe a half dozen or so\, while the “hundreds and hundreds” available on cable are rarely–if ever–accessed. Here’s where the pay-as-you-go options of the rapidly emerging streaming market emerge as attractive alternatives. \nOK\, but how do I get there? What do I need to have to get there? And when I get there\, what have I given up? These and many other relevant questions will be answered in this informative two-hour session presented by the Foundation. Experts from Best Buy’s “Geek Squad” training staff will explain the marketplace\, covering the equipment and contract details you’ll need to consider in order to take the leap. \nHere are the details: \nDate:     Wednesday\, August 9. 2017 \nTime:     10:00 am to Noon \nPlace:    Lady Lake Library\, 225 West Guava Street\, Lady Lake\, FL 32159 \nThere is no cost for this workshop\, and light refreshments will be served. \nTo register: Contact the AMAC Foundation\, 888-750-2622 or email: info@amacfoundation.org \n  \nDeadline for reservation is Wednesday\, August 2\, 2017.
URL:https://amacfoundation.org/event/life-after-cable-entertainment-alternatives/
LOCATION:Lady Lake Library Room 207\, 225 W Guava Street\, Lady Lake\, FL\, 32159\, United States
ATTACH;FMTTYPE=image/jpeg:https://amacfoundation.org/wp-content/uploads/2017/05/dreamstime_m_31127467cable-tv-options-confused-television-remote.jpg
ORGANIZER;CN="The AMAC Foundation":MAILTO:Info@amacfoundation.org
END:VEVENT
BEGIN:VEVENT
DTSTART;TZID=America/New_York:20170720T140000
DTEND;TZID=America/New_York:20170720T160000
DTSTAMP:20260423T010505
CREATED:20170308T174010Z
LAST-MODIFIED:20170522T160745Z
UID:10000206-1500559200-1500566400@amacfoundation.org
SUMMARY:Sudden Death – Are You Prepared?
DESCRIPTION:Sudden Death: Are You Prepared?\nAttention: This event is comprised of three two-hour sessions.  \nHere are the dates of all three sessions: Thursdays – July 20th\, July 27th\, August 3rd – 2:00 pm – 4:00 pm \nLocation: Mission Oaks Memory Care\, Oxford \nIf you passed away tomorrow\, will your loved ones know what to do? Will they know where your financial information and tax records\, insurance records\, and investment documents are stored? Will they be able to locate your most current will\, health care directives\, and documented funeral wishes? Can they locate important household documents\, like deeds\, car titles\, and pension statements? \nThe list goes on and on\, but the important point is that having this type of pertinent information organized and available in a structured place is something you can do in advance for those you leave behind. It’s a big task and it’s not an easy one…we know that. But with a structured approach you can create a living document that will prove invaluable to your loved ones. \nThis seminar has been structured to guide you through the process of creating your “Survivor Notebook\,” the repository that will help your loved ones cope after your passing. Conducted in three separate two-hour sessions\, we’ll walk you through identifying what needs to be considered\, assembling the material as we go in an accessible format\, and we’ll be developing an approach to maintaining the material so that it’s always current. You’ll leave with a physical roadmap that will be of immeasurable value to your family. \nThere is no cost for this workshop series\, and light refreshments will be served at each session. Notebook materials will be provided \nTo register: \nContact the AMAC Foundation\, 888-750-2622 or email: info@amacfoundation.org
URL:https://amacfoundation.org/event/sudden-death-are-you-prepared-4/
LOCATION:Mission Oaks Memory Care\, 10780 U.S. 301\, Oxford\, FL\, 34484\, United States
ATTACH;FMTTYPE=image/jpeg:https://amacfoundation.org/wp-content/uploads/2017/01/sudden-death-event.jpg
END:VEVENT
BEGIN:VEVENT
DTSTART;TZID=America/New_York:20170718T100000
DTEND;TZID=America/New_York:20170718T113000
DTSTAMP:20260423T010505
CREATED:20170509T192229Z
LAST-MODIFIED:20170706T143938Z
UID:10000209-1500372000-1500377400@amacfoundation.org
SUMMARY:New to Medicare Workshop
DESCRIPTION:This workshop will cover the details those aging into Medicare eligibility need to know. We’ll focus on the terminology used by practitioners and Medicare administrators\, the key decisions that Medicare newcomers need to make\, the timing considerations that need to be understood\, and a host of issues critical to navigating this senior benefit program. \nLed by a seasoned professional with extensive familiarity in the insurance industry\, the workshop will provide a clear perspective on the road leading to successful Medicare sign-up. The general intent is to ensure that attendees leave with an understanding of the basics of Medicare and its major components. No products will be marketed at the workshop…it is simply a service to make newcomers comfortable with the many facets of the program. \nLight refreshments will be served\, and time for questions will be provided\, along with several helpful handouts supporting the information covered in the workshop. \nNote also that\, for those unable to attend the morning session\, we will be hosting a repeat session at 5:30 pm the same day. \nSeating is limited…deadline for registration is Friday\, July 14\, 2017 at 5:00 pm. \nNOTE LOCATION CHANGE: This session will be held at AMAC’s Leesburg Office…call for directions (888-750-2622).
URL:https://amacfoundation.org/event/new-medicare-workshop/
LOCATION:AMAC\, Inc Offices\, 2130 Talley Road\, Building 1 Suite 100\, Leesburg\, FL\, 34748\, United States
ATTACH;FMTTYPE=image/jpeg:https://amacfoundation.org/wp-content/uploads/2017/05/dreamstime_s_56786036-©-Alexmillos-Dreamstime.com_-700x452medicare.jpg
ORGANIZER;CN="The AMAC Foundation":MAILTO:Info@amacfoundation.org
END:VEVENT
BEGIN:VEVENT
DTSTART;TZID=America/New_York:20170620T100000
DTEND;TZID=America/New_York:20170620T113000
DTSTAMP:20260423T010505
CREATED:20170409T173000Z
LAST-MODIFIED:20170509T190506Z
UID:10000208-1497952800-1497958200@amacfoundation.org
SUMMARY:Understanding Veterans Aid & Attendance Benefits
DESCRIPTION:This workshop will explore a little-known benefit available to U.S. Armed Forces veterans who were on active duty during a period of war. It’s titled “Pension With Aid and Attendance”\, and it could be a life-changer for many men and women who require home care or care in a health care facility and require the assistance of another person (for bathing\, dressing\, medication monitoring and other activities of daily living). \nThe Pension With Aid and Attendance benefit is available to veterans and their spouse\, and also to surviving spouses and to spouses of a healthy veteran in need of care. Veterans having the wartime service credits only need to demonstrate that caregiver assistance\, or a living facility more suitable to their physical limitations is required\, and that they have a financial need. \nKim Lanning\, representing Caring Avenues\, will provide education on this important benefit and will help attendees understand how to take advantage of the benefit to improve their lives. \nThe session will begin at 10:00 am and is scheduled to conclude by 11:30 am\, although Ms. Lanning and Foundation staff representatives will be on-hand afterward to respond to questions and provide any further assistance anyone might need. \nDeadline for registration is Friday\, June 16\, 2017. Light refreshments will be provided before and during the session. \nJoin us and learn!\n  \n 
URL:https://amacfoundation.org/event/understanding-veterans-aid-attendance-benefits/
LOCATION:Lady Lake Library Room 207\, 225 W Guava Street\, Lady Lake\, FL\, 32159\, United States
ATTACH;FMTTYPE=image/jpeg:https://amacfoundation.org/wp-content/uploads/2017/03/veterans1-min.jpg
END:VEVENT
END:VCALENDAR