BEGIN:VCALENDAR
VERSION:2.0
PRODID:-//AMAC Foundation - ECPv6.15.15//NONSGML v1.0//EN
CALSCALE:GREGORIAN
METHOD:PUBLISH
X-ORIGINAL-URL:https://amacfoundation.org
X-WR-CALDESC:Events for AMAC Foundation
REFRESH-INTERVAL;VALUE=DURATION:PT1H
X-Robots-Tag:noindex
X-PUBLISHED-TTL:PT1H
BEGIN:VTIMEZONE
TZID:America/New_York
BEGIN:DAYLIGHT
TZOFFSETFROM:-0500
TZOFFSETTO:-0400
TZNAME:EDT
DTSTART:20240310T070000
END:DAYLIGHT
BEGIN:STANDARD
TZOFFSETFROM:-0400
TZOFFSETTO:-0500
TZNAME:EST
DTSTART:20241103T060000
END:STANDARD
BEGIN:DAYLIGHT
TZOFFSETFROM:-0500
TZOFFSETTO:-0400
TZNAME:EDT
DTSTART:20250309T070000
END:DAYLIGHT
BEGIN:STANDARD
TZOFFSETFROM:-0400
TZOFFSETTO:-0500
TZNAME:EST
DTSTART:20251102T060000
END:STANDARD
BEGIN:DAYLIGHT
TZOFFSETFROM:-0500
TZOFFSETTO:-0400
TZNAME:EDT
DTSTART:20260308T070000
END:DAYLIGHT
BEGIN:STANDARD
TZOFFSETFROM:-0400
TZOFFSETTO:-0500
TZNAME:EST
DTSTART:20261101T060000
END:STANDARD
END:VTIMEZONE
BEGIN:VEVENT
DTSTART;TZID=America/New_York:20251208T000000
DTEND;TZID=America/New_York:20251208T235959
DTSTAMP:20260419T145353
CREATED:20251204T200846Z
LAST-MODIFIED:20260112T171638Z
UID:10004094-1765152000-1765238399@amacfoundation.org
SUMMARY:Ask Rusty: What does the 2026 COLA Increase Mean for Your Social Security?
DESCRIPTION:The 2026 Social Security COLA increase has been announced\, but do you know how it will really affect your wallet? Join Russell Gloor of “Ask Rusty” as he explains what the new COLA means for your Social Security or SSI benefits. We’ll cover how the adjustment is calculated\, when you’ll see changes in your payments\, and what factors—like Medicare premiums or taxes—may impact your actual monthly deposit. This session will help you understand the real financial effects of the 2026 COLA and how to plan for the year ahead.
URL:https://amacfoundation.org/event/ask-rusty-what-does-the-2026-cola-increase-mean-for-your-social-security/2025-12-08/
CATEGORIES:Senior Services & Resources,Social Security Advisory Service
ATTACH;FMTTYPE=image/jpeg:https://amacfoundation.org/wp-content/uploads/2023/06/ask-rusty-2.jpg
LOCATION:
END:VEVENT
BEGIN:VEVENT
DTSTART;TZID=America/New_York:20251209T120000
DTEND;TZID=America/New_York:20251209T130000
DTSTAMP:20260419T145353
CREATED:20251117T132614Z
LAST-MODIFIED:20251201T143609Z
UID:10004053-1765281600-1765285200@amacfoundation.org
SUMMARY:Social Security Secrets: 10 Questions You Didn’t Know You Needed to Ask - LIVE Webinar
DESCRIPTION:Think Social Security is just about retirement checks? Think again. From hidden spousal benefits to COLA twists\, claim timing traps\, and the documents that make or break your plan—this session unpacks the 10 essential questions that can change how (and when) you collect. This is a LIVE Webinar\, join us! \n\n\n\nWhether you’re planning ahead or helping someone else\, this is your roadmap to smarter Social Security decisions. It’s time to decode the system and take control of your benefits. Bring your curiosity—we’ll bring the answers.
URL:https://amacfoundation.org/event/social-security-secrets-10-questions-you-didnt-know-you-needed-to-ask-3/
CATEGORIES:Senior Services & Resources,Social Security Advisory Service
ATTACH;FMTTYPE=image/jpeg:https://amacfoundation.org/wp-content/uploads/2025/11/Social-Security-Secrets.jpg
ORGANIZER;CN="The AMAC Foundation":MAILTO:Info@amacfoundation.org
END:VEVENT
END:VCALENDAR