BEGIN:VCALENDAR
VERSION:2.0
PRODID:-//AMAC Foundation - ECPv6.15.15//NONSGML v1.0//EN
CALSCALE:GREGORIAN
METHOD:PUBLISH
X-ORIGINAL-URL:https://amacfoundation.org
X-WR-CALDESC:Events for AMAC Foundation
REFRESH-INTERVAL;VALUE=DURATION:PT1H
X-Robots-Tag:noindex
X-PUBLISHED-TTL:PT1H
BEGIN:VTIMEZONE
TZID:America/New_York
BEGIN:DAYLIGHT
TZOFFSETFROM:-0500
TZOFFSETTO:-0400
TZNAME:EDT
DTSTART:20240310T070000
END:DAYLIGHT
BEGIN:STANDARD
TZOFFSETFROM:-0400
TZOFFSETTO:-0500
TZNAME:EST
DTSTART:20241103T060000
END:STANDARD
BEGIN:DAYLIGHT
TZOFFSETFROM:-0500
TZOFFSETTO:-0400
TZNAME:EDT
DTSTART:20250309T070000
END:DAYLIGHT
BEGIN:STANDARD
TZOFFSETFROM:-0400
TZOFFSETTO:-0500
TZNAME:EST
DTSTART:20251102T060000
END:STANDARD
BEGIN:DAYLIGHT
TZOFFSETFROM:-0500
TZOFFSETTO:-0400
TZNAME:EDT
DTSTART:20260308T070000
END:DAYLIGHT
BEGIN:STANDARD
TZOFFSETFROM:-0400
TZOFFSETTO:-0500
TZNAME:EST
DTSTART:20261101T060000
END:STANDARD
END:VTIMEZONE
BEGIN:VEVENT
DTSTART;TZID=America/New_York:20250212T100000
DTEND;TZID=America/New_York:20250212T110000
DTSTAMP:20260420T040344
CREATED:20250204T171201Z
LAST-MODIFIED:20250204T171726Z
UID:10000381-1739354400-1739358000@amacfoundation.org
SUMMARY:Women & Social Security\, 2-Part Series
DESCRIPTION:Ladies! Did You Know: \n\n\n\n– Women depend more heavily on Social Security than men.– The average Social Security benefits for women are 25% lower than for the average men.– For nearly half of unmarried women Social Security beneficiaries\, Social Security represents 90% or more of their total income. \n\n\n\nThe AMAC Foundation Social Security Advisory Services has created a comprehensive seminar to help women understand their Social Security benefits. \n\n\n\nPlease join us on Wednesday\, February 12th\, and Friday\, February 14th\, at 10:00 -11 am Eastern\, with time for Q&As following the presentation each day.  \n\n\n\nClick below to register for this 2-part Zoom webinar on Women and Social Security!
URL:https://amacfoundation.org/event/women-social-security-2-part-series/
CATEGORIES:Social Security Advisory Service
ATTACH;FMTTYPE=image/png:https://amacfoundation.org/wp-content/uploads/2025/02/Copy-of-Zoom_Thumbnail-600-x-600-px.png
END:VEVENT
BEGIN:VEVENT
DTSTART;TZID=America/New_York:20250219T113000
DTEND;TZID=America/New_York:20250219T120000
DTSTAMP:20260420T040344
CREATED:20250123T172622Z
LAST-MODIFIED:20250123T172624Z
UID:10000380-1739964600-1739966400@amacfoundation.org
SUMMARY:Social Security Spousal Benefits (Zoom)
DESCRIPTION:Register for a virtual event on Social Security spousal benefits\, including options for filing\, who can file for a spousal increase\, and timing for filing. Presented by AMAC Foundation’s topnotch team of Social Security Advisors.
URL:https://amacfoundation.org/event/social-security-spousal-benefits-zoom/
CATEGORIES:Social Security Advisory Service
ATTACH;FMTTYPE=image/png:https://amacfoundation.org/wp-content/uploads/2025/01/Zoom_Thumbnail-600-x-600-px-1.png
END:VEVENT
BEGIN:VEVENT
DTSTART;TZID=America/New_York:20250225T100000
DTEND;TZID=America/New_York:20250225T140000
DTSTAMP:20260420T040345
CREATED:20250207T124719Z
LAST-MODIFIED:20250207T130049Z
UID:10000382-1740477600-1740492000@amacfoundation.org
SUMMARY:2025 Social Security Workshop (The Villages/Lady Lake\, FL)
DESCRIPTION:When: February 25\, 2025\, 10am – 2pmRegistration starts at 930Where: Hampton Inn & Suites Lady Lake/The Villages11727 NE 63rd Dr\, Lady Lake\, FL 32162 \n\n\n\nHave questions about Social Security?  \n\n\n\nLooking to retire\, but not sure of where to start?\n\n\n\nJoin us for a free\, interactive workshop\, presented by Social Security Advisors with over 100 years combined experience; and\, 2 Advisors who retired from the Social Security Administration!  \n\n\n\nIncludes:– Presentation & Materials– Door Prizes– 1-on-1’s with Advisors– Lunch provided \n\n\n\nSpace is limited\, so click below to register today!\n\n\n\n\n\n\n\n\n\n\n\n\n\n\n\nFor more information\, contact AMAC Foundation at 888-750-2622 or info@amacfoundation.org
URL:https://amacfoundation.org/event/2025-social-security-workshop/
LOCATION:Hampton Inn & Suites Lady Lake/The Villages\, 11727 NE 63rd Dr\, LADY LAKE\, Florida\, 32162
CATEGORIES:Social Security Advisory Service
ATTACH;FMTTYPE=image/png:https://amacfoundation.org/wp-content/uploads/2025/02/202502-SS-Workshop_Promo-Banner-600-x-600-px.png
END:VEVENT
END:VCALENDAR