BEGIN:VCALENDAR
VERSION:2.0
PRODID:-//AMAC Foundation - ECPv6.15.15//NONSGML v1.0//EN
CALSCALE:GREGORIAN
METHOD:PUBLISH
X-ORIGINAL-URL:https://amacfoundation.org
X-WR-CALDESC:Events for AMAC Foundation
REFRESH-INTERVAL;VALUE=DURATION:PT1H
X-Robots-Tag:noindex
X-PUBLISHED-TTL:PT1H
BEGIN:VTIMEZONE
TZID:America/New_York
BEGIN:DAYLIGHT
TZOFFSETFROM:-0500
TZOFFSETTO:-0400
TZNAME:EDT
DTSTART:20250309T070000
END:DAYLIGHT
BEGIN:STANDARD
TZOFFSETFROM:-0400
TZOFFSETTO:-0500
TZNAME:EST
DTSTART:20251102T060000
END:STANDARD
BEGIN:DAYLIGHT
TZOFFSETFROM:-0500
TZOFFSETTO:-0400
TZNAME:EDT
DTSTART:20260308T070000
END:DAYLIGHT
BEGIN:STANDARD
TZOFFSETFROM:-0400
TZOFFSETTO:-0500
TZNAME:EST
DTSTART:20261101T060000
END:STANDARD
BEGIN:DAYLIGHT
TZOFFSETFROM:-0500
TZOFFSETTO:-0400
TZNAME:EDT
DTSTART:20270314T070000
END:DAYLIGHT
BEGIN:STANDARD
TZOFFSETFROM:-0400
TZOFFSETTO:-0500
TZNAME:EST
DTSTART:20271107T060000
END:STANDARD
END:VTIMEZONE
BEGIN:VEVENT
DTSTART;TZID=America/New_York:20260122T140000
DTEND;TZID=America/New_York:20260122T150000
DTSTAMP:20260421T074620
CREATED:20260115T184101Z
LAST-MODIFIED:20260416T223658Z
UID:10004134-1769090400-1769094000@amacfoundation.org
SUMMARY:The Constitutional Foundation of Advocacy - SESSION 1: Article I & the First Amendment
DESCRIPTION:Program Overview The Constitutional Advocacy Academy is a year-long leadership and advocacy experience designed to equip engaged citizens with the knowledge and skills to influence public policy effectively and lawfully. Through monthly classes\, participants learn the constitutional foundations of advocacy\, how the legislative process really works\, and how to communicate persuasively with elected officials at the federal and state levels. Participants gain practical tools for grassroots engagement\, legislative meetings\, and community leadership—empowering them to serve as informed\, credible\, and effective advocates for the issues that matter most to them. \n\n\n\nSession 1: Article I & the First Amendment: This class grounds citizen advocacy in the U.S. Constitution\, explaining how Article I establishes the legislative branch and why lawful engagement with elected officials is fundamental to representative government. Participants explore First Amendment protections for petitioning\, advocacy\, and peaceful assembly\, gaining clarity on why these rights are essential to a functioning republic. By the end of the class\, participants are prepared to confidently define their role as advocates and engage policymakers with credibility\, purpose\, and respect for the rule of law. \n\n\n\nCan’t attend live?All registered participants will receive a recording of the webinar after it concludes.
URL:https://amacfoundation.org/event/the-constitutional-foundation-of-advocacy-article-i-the-first-amendment/
LOCATION:Virtual Seminar\, United States
CATEGORIES:Constitutional Academy
ATTACH;FMTTYPE=image/bmp:https://amacfoundation.org/wp-content/uploads/2026/01/The-Constitutional-Advocay-Academy8.bmp
ORGANIZER;CN="The AMAC Foundation":MAILTO:Info@amacfoundation.org
END:VEVENT
END:VCALENDAR