BEGIN:VCALENDAR
VERSION:2.0
PRODID:-//AMAC Foundation - ECPv6.15.15//NONSGML v1.0//EN
CALSCALE:GREGORIAN
METHOD:PUBLISH
X-WR-CALNAME:AMAC Foundation
X-ORIGINAL-URL:https://amacfoundation.org
X-WR-CALDESC:Events for AMAC Foundation
REFRESH-INTERVAL;VALUE=DURATION:PT1H
X-Robots-Tag:noindex
X-PUBLISHED-TTL:PT1H
BEGIN:VTIMEZONE
TZID:America/New_York
BEGIN:DAYLIGHT
TZOFFSETFROM:-0500
TZOFFSETTO:-0400
TZNAME:EDT
DTSTART:20220313T070000
END:DAYLIGHT
BEGIN:STANDARD
TZOFFSETFROM:-0400
TZOFFSETTO:-0500
TZNAME:EST
DTSTART:20221106T060000
END:STANDARD
BEGIN:DAYLIGHT
TZOFFSETFROM:-0500
TZOFFSETTO:-0400
TZNAME:EDT
DTSTART:20230312T070000
END:DAYLIGHT
BEGIN:STANDARD
TZOFFSETFROM:-0400
TZOFFSETTO:-0500
TZNAME:EST
DTSTART:20231105T060000
END:STANDARD
BEGIN:DAYLIGHT
TZOFFSETFROM:-0500
TZOFFSETTO:-0400
TZNAME:EDT
DTSTART:20240310T070000
END:DAYLIGHT
BEGIN:STANDARD
TZOFFSETFROM:-0400
TZOFFSETTO:-0500
TZNAME:EST
DTSTART:20241103T060000
END:STANDARD
END:VTIMEZONE
BEGIN:VEVENT
DTSTART;TZID=America/New_York:20230601T000000
DTEND;TZID=America/New_York:20231231T235959
DTSTAMP:20260424T180659
CREATED:20230531T211840Z
LAST-MODIFIED:20230712T170606Z
UID:10000272-1685577600-1704067199@amacfoundation.org
SUMMARY:2023 Volunteerism & Recommendations
DESCRIPTION:Ongoing Event – Sign up to volunteer\, Recommend topics\, Inquire\, or Donate.   \n\n\n\n\n\n\n\n\n\nInterested in volunteering in the Lady Lake\, FL with us?  Maybe you are elsewhere\, but still want to find ways to volunteer?  Or how about just share some ideas?  There are multiple ways that we could use your help!  \n\n\n\nPlease see the information below and complete the appropriate form! If you aren’t interested in volunteering\, but still want to support us\, feel free to donate here. \n\n\n\nGeneral – Volunteerism & Recommendations (no specified location) \n\n\n\nWe are looking for volunteers for the upcoming Adult Literacy Program that is in the planning phase to start September 2023: \n\n\n\nAdult Literacy Tutor (help those with reading and writing) \n\n\n\nVolunteer English Tutor (help those who are learning the English language)
URL:https://amacfoundation.org/event/2023-volunteerism-recommendations/
ATTACH;FMTTYPE=image/jpeg:https://amacfoundation.org/wp-content/uploads/2023/05/volunteers-needed-symbol-volunteering-service-sign-vector.jpg_s1024x1024wisk20cBBttFhwfAdXbuM65hP2S7fryJRDzibsB6xxK6Zte5q0.jpg
END:VEVENT
BEGIN:VEVENT
DTSTART;TZID=America/New_York:20231020T130000
DTEND;TZID=America/New_York:20231020T130000
DTSTAMP:20260424T180659
CREATED:20230911T192020Z
LAST-MODIFIED:20231019T011144Z
UID:10000353-1697806800-1697806800@amacfoundation.org
SUMMARY:Medicare Fundamentals (webinar)
DESCRIPTION:Spots Still Open!!! Register Below – Zoom Link in Confirmation Email!\n\n\n\nAs important as Medicare is to the well-being of American seniors\, its complexity often leaves those approaching eligibility bewildered. Presented by AMAC Foundation Social Security Advisors\, Russ “Ask Rusty” Gloor and Eileen Cook\, they will navigate through many topic areas\, such as: \n\n\n\nWhat are the different “Parts” of the program?   \n\n\n\nWhat does it cover (and not cover)?  \n\n\n\nDo I need additional coverage?  \n\n\n\nWhat if I am still working and have employer coverage?  \n\n\n\nWhat happens if I don’t enroll?  \n\n\n\nHow much does it cost?   \n\n\n\nWhat if I have a Health Savings Account?  \n\n\n\nThese and many other questions will be answered in this Medicare Fundamentals webinar sure to be helpful to anyone approaching age 65\, or any professional or family member who assists them. Don’t miss this opportunity to expand your knowledge of the nation’s most important healthcare program. Click below to register!
URL:https://amacfoundation.org/event/medicare-fundamentals-webinar/
ATTACH;FMTTYPE=image/png:https://amacfoundation.org/wp-content/uploads/2023/09/20231020_Medicare-Fundamentals_IG-sq.png
END:VEVENT
END:VCALENDAR