BEGIN:VCALENDAR
VERSION:2.0
PRODID:-//AMAC Foundation - ECPv6.15.15//NONSGML v1.0//EN
CALSCALE:GREGORIAN
METHOD:PUBLISH
X-ORIGINAL-URL:https://amacfoundation.org
X-WR-CALDESC:Events for AMAC Foundation
REFRESH-INTERVAL;VALUE=DURATION:PT1H
X-Robots-Tag:noindex
X-PUBLISHED-TTL:PT1H
BEGIN:VTIMEZONE
TZID:America/New_York
BEGIN:DAYLIGHT
TZOFFSETFROM:-0500
TZOFFSETTO:-0400
TZNAME:EDT
DTSTART:20220313T070000
END:DAYLIGHT
BEGIN:STANDARD
TZOFFSETFROM:-0400
TZOFFSETTO:-0500
TZNAME:EST
DTSTART:20221106T060000
END:STANDARD
BEGIN:DAYLIGHT
TZOFFSETFROM:-0500
TZOFFSETTO:-0400
TZNAME:EDT
DTSTART:20230312T070000
END:DAYLIGHT
BEGIN:STANDARD
TZOFFSETFROM:-0400
TZOFFSETTO:-0500
TZNAME:EST
DTSTART:20231105T060000
END:STANDARD
BEGIN:DAYLIGHT
TZOFFSETFROM:-0500
TZOFFSETTO:-0400
TZNAME:EDT
DTSTART:20240310T070000
END:DAYLIGHT
BEGIN:STANDARD
TZOFFSETFROM:-0400
TZOFFSETTO:-0500
TZNAME:EST
DTSTART:20241103T060000
END:STANDARD
END:VTIMEZONE
BEGIN:VEVENT
DTSTART;TZID=America/New_York:20230324T100000
DTEND;TZID=America/New_York:20230324T150000
DTSTAMP:20260425T115439
CREATED:20230109T165737Z
LAST-MODIFIED:20230323T150108Z
UID:10000259-1679652000-1679670000@amacfoundation.org
SUMMARY:Aging at Home Expo (in person)
DESCRIPTION:Not interested in moving from your home as you age? Concerned about a family member who wants to stay at their home? Need assistance converting your home to accommodate an aging adult living with you? \n\n\n\nAttend our AMAC Foundation 1-day expo with exhibitors and breakout sessions focused on how to stay in your home. Learn about staying connected to the community\, being informed about resources or services\, and not feel detached from what you or your loved one needs. \n\n\n\nBreakout sessions include: \n\n\n\n10am Veteran’s Resources & Benefits – Benedetto Mongiovil\, Veteran Liaison\, VITAS \n\n\n\n11am National Aging in Place Council \n\n\n\n12pm Crime Prevention – Sumter County Sheriff’s Office \n\n\n\n1pm Connecting with the Community: Mind\, Body\, & Spirit; How to Choose Assisted Living Facilities – Co-Presenters Cynthia Thiede\, VITAS\, and Janice Martin\, Senior Liaison of Central Florida \n\n\n\n2pm – Social Security Solvency – Gerry Hafer\, AMAC\, Inc. \n\n\n\n \n\n\n\nStay tuned for more details!  \n\n\n\n\n\n\n\nRegistration not required\, but preferred\n\n\n\nClick to Register – Aging at Home Expo
URL:https://amacfoundation.org/event/aging-at-home-expo-in-person/
LOCATION:Wildwood Community Center\, 6500 Powell Rd\, Wildwood\, Florida\, 34785
ATTACH;FMTTYPE=image/png:https://amacfoundation.org/wp-content/uploads/2023/01/AF-hands-house-graphic-01.png
END:VEVENT
END:VCALENDAR