BEGIN:VCALENDAR
VERSION:2.0
PRODID:-//AMAC Foundation - ECPv6.15.15//NONSGML v1.0//EN
CALSCALE:GREGORIAN
METHOD:PUBLISH
X-WR-CALNAME:AMAC Foundation
X-ORIGINAL-URL:https://amacfoundation.org
X-WR-CALDESC:Events for AMAC Foundation
REFRESH-INTERVAL;VALUE=DURATION:PT1H
X-Robots-Tag:noindex
X-PUBLISHED-TTL:PT1H
BEGIN:VTIMEZONE
TZID:America/New_York
BEGIN:DAYLIGHT
TZOFFSETFROM:-0500
TZOFFSETTO:-0400
TZNAME:EDT
DTSTART:20220313T070000
END:DAYLIGHT
BEGIN:STANDARD
TZOFFSETFROM:-0400
TZOFFSETTO:-0500
TZNAME:EST
DTSTART:20221106T060000
END:STANDARD
BEGIN:DAYLIGHT
TZOFFSETFROM:-0500
TZOFFSETTO:-0400
TZNAME:EDT
DTSTART:20230312T070000
END:DAYLIGHT
BEGIN:STANDARD
TZOFFSETFROM:-0400
TZOFFSETTO:-0500
TZNAME:EST
DTSTART:20231105T060000
END:STANDARD
BEGIN:DAYLIGHT
TZOFFSETFROM:-0500
TZOFFSETTO:-0400
TZNAME:EDT
DTSTART:20240310T070000
END:DAYLIGHT
BEGIN:STANDARD
TZOFFSETFROM:-0400
TZOFFSETTO:-0500
TZNAME:EST
DTSTART:20241103T060000
END:STANDARD
END:VTIMEZONE
BEGIN:VEVENT
DTSTART;TZID=America/New_York:20230124T100000
DTEND;TZID=America/New_York:20230124T150000
DTSTAMP:20260425T162326
CREATED:20230109T194620Z
LAST-MODIFIED:20230109T200041Z
UID:10000263-1674554400-1674572400@amacfoundation.org
SUMMARY:Dementia Resource Expo
DESCRIPTION:For more information or to register\, please visit dementiaresourceexpo.org \n\n\n\nIn person & online options available \n\n\n\n\n\n\n\n\n\n\n\n\n\n\n\n\n\n\n\n\n\n\n\nAMAC Foundation is working with other organizations to ensure our Senior communities are connected to information\, education\, resources\, and events. This event is not sponsored or delivered by AMAC Foundation – it is being shared as a courtesy to other local organizations.Notice: The links provided above connect readers to the full content of the referenced information. The URLs (internet addresses) for these links are valid on the posted date; AmacFoundation.org cannot guarantee the duration of the links’ validity. Also\, the opinions expressed in these postings are the viewpoints of the original source and are not explicitly endorsed by AMAC\, Inc. or the AMAC Foundation\, Inc. Providing linkage to external websites does not constitute endorsement of products or services advertised thereon.
URL:https://amacfoundation.org/event/dementia-resource-expo/
ATTACH;FMTTYPE=image/jpeg:https://amacfoundation.org/wp-content/uploads/2023/01/dementia-resource-expo.jpg
END:VEVENT
END:VCALENDAR