BEGIN:VCALENDAR
VERSION:2.0
PRODID:-//AMAC Foundation - ECPv6.15.15//NONSGML v1.0//EN
CALSCALE:GREGORIAN
METHOD:PUBLISH
X-WR-CALNAME:AMAC Foundation
X-ORIGINAL-URL:https://amacfoundation.org
X-WR-CALDESC:Events for AMAC Foundation
REFRESH-INTERVAL;VALUE=DURATION:PT1H
X-Robots-Tag:noindex
X-PUBLISHED-TTL:PT1H
BEGIN:VTIMEZONE
TZID:America/New_York
BEGIN:DAYLIGHT
TZOFFSETFROM:-0500
TZOFFSETTO:-0400
TZNAME:EDT
DTSTART:20210314T070000
END:DAYLIGHT
BEGIN:STANDARD
TZOFFSETFROM:-0400
TZOFFSETTO:-0500
TZNAME:EST
DTSTART:20211107T060000
END:STANDARD
BEGIN:DAYLIGHT
TZOFFSETFROM:-0500
TZOFFSETTO:-0400
TZNAME:EDT
DTSTART:20220313T070000
END:DAYLIGHT
BEGIN:STANDARD
TZOFFSETFROM:-0400
TZOFFSETTO:-0500
TZNAME:EST
DTSTART:20221106T060000
END:STANDARD
BEGIN:DAYLIGHT
TZOFFSETFROM:-0500
TZOFFSETTO:-0400
TZNAME:EDT
DTSTART:20230312T070000
END:DAYLIGHT
BEGIN:STANDARD
TZOFFSETFROM:-0400
TZOFFSETTO:-0500
TZNAME:EST
DTSTART:20231105T060000
END:STANDARD
END:VTIMEZONE
BEGIN:VEVENT
DTSTART;TZID=America/New_York:20221216T140000
DTEND;TZID=America/New_York:20221216T140000
DTSTAMP:20260425T204059
CREATED:20221121T205932Z
LAST-MODIFIED:20221121T205935Z
UID:10000337-1671199200-1671199200@amacfoundation.org
SUMMARY:One More Day Straight Talk with Senator Bill Cassidy (Senate Committee on Veteran’s Affairs)
DESCRIPTION:Join us as we chat with Senator Bill Cassidy from the Senate Committee on Veteran’s Affairs about the different programs working through the United States Senate to reduce suicide and other mental health crises. \n\n\n\nMake sure that you register for this event using the link below. \n\n\n\nhttps://us02web.zoom.us/…/reg…/WN_PE3AbvEvR0qyxSqUc_QDgw \n\n\n\nNote: Event time is 2pm Eastern / 12pm Mountain \n\n\n\nThis event is presented by One More Day Inc.\, a Veteran-Operated nonprofit VSO/MSO dedicated to ending the loss of our nation’s cherished Veterans at the hands of suicide. The AMAC Foundation is partnering with One More Day as part of the AMAC Veterans 2021 Project. If you have any questions\, please contact One More Day Suicide Prevention at 208-600-4571 or visit their website at http://www.suicide-prevention.org or Facebook.com/onemoreday.
URL:https://amacfoundation.org/event/one-more-day-straight-talk-with-senator-bill-cassidy-senate-committee-on-veterans-affairs/
ATTACH;FMTTYPE=image/png:https://amacfoundation.org/wp-content/uploads/2022/03/One-More-Day-Veterans-logo.png
END:VEVENT
END:VCALENDAR