BEGIN:VCALENDAR
VERSION:2.0
PRODID:-//AMAC Foundation - ECPv6.15.15//NONSGML v1.0//EN
CALSCALE:GREGORIAN
METHOD:PUBLISH
X-ORIGINAL-URL:https://amacfoundation.org
X-WR-CALDESC:Events for AMAC Foundation
REFRESH-INTERVAL;VALUE=DURATION:PT1H
X-Robots-Tag:noindex
X-PUBLISHED-TTL:PT1H
BEGIN:VTIMEZONE
TZID:America/New_York
BEGIN:DAYLIGHT
TZOFFSETFROM:-0500
TZOFFSETTO:-0400
TZNAME:EDT
DTSTART:20210314T070000
END:DAYLIGHT
BEGIN:STANDARD
TZOFFSETFROM:-0400
TZOFFSETTO:-0500
TZNAME:EST
DTSTART:20211107T060000
END:STANDARD
BEGIN:DAYLIGHT
TZOFFSETFROM:-0500
TZOFFSETTO:-0400
TZNAME:EDT
DTSTART:20220313T070000
END:DAYLIGHT
BEGIN:STANDARD
TZOFFSETFROM:-0400
TZOFFSETTO:-0500
TZNAME:EST
DTSTART:20221106T060000
END:STANDARD
BEGIN:DAYLIGHT
TZOFFSETFROM:-0500
TZOFFSETTO:-0400
TZNAME:EDT
DTSTART:20230312T070000
END:DAYLIGHT
BEGIN:STANDARD
TZOFFSETFROM:-0400
TZOFFSETTO:-0500
TZNAME:EST
DTSTART:20231105T060000
END:STANDARD
END:VTIMEZONE
BEGIN:VEVENT
DTSTART;TZID=America/New_York:20221026T100000
DTEND;TZID=America/New_York:20221026T120000
DTSTAMP:20260425T235436
CREATED:20220919T215642Z
LAST-MODIFIED:20220928T164239Z
UID:10000330-1666778400-1666785600@amacfoundation.org
SUMMARY:How To Choose the Best Assisted Living (webinar)
DESCRIPTION:The issue of selecting an assisted living facility for yourself or someone you care for is an extremely important topic for so many of our constituents. Since we are aware of the level of apprehension one faces when starting to think about the issue\, our public seminar series is providing a session focused totally on tips and techniques to consider when facing this task.  \n\n\n\nThe session will be conducted by Rhonda Hardy\, author of “How to Choose the Best Assisted Living\,” and she will share the tips and techniques she’s compiled into her extensive publication. For more information on this topic and Rhonda’s book\, check out the July 19 “News” post on this website. \n\n\n\n \n\n\n\nThere is no fee. Please register by Monday\, October 24th by contacting the AMAC Foundation office via email  at info@AmacFoundation.org
URL:https://amacfoundation.org/event/choosing-the-assisted-living-facility-that-best-fits-your-needs/
ATTACH;FMTTYPE=image/jpeg:https://amacfoundation.org/wp-content/uploads/2021/08/iStock-1045351924assisted-living-senior-care-caregiver.jpg
END:VEVENT
END:VCALENDAR