BEGIN:VCALENDAR
VERSION:2.0
PRODID:-//AMAC Foundation - ECPv6.15.15//NONSGML v1.0//EN
CALSCALE:GREGORIAN
METHOD:PUBLISH
X-ORIGINAL-URL:https://amacfoundation.org
X-WR-CALDESC:Events for AMAC Foundation
REFRESH-INTERVAL;VALUE=DURATION:PT1H
X-Robots-Tag:noindex
X-PUBLISHED-TTL:PT1H
BEGIN:VTIMEZONE
TZID:America/New_York
BEGIN:DAYLIGHT
TZOFFSETFROM:-0500
TZOFFSETTO:-0400
TZNAME:EDT
DTSTART:20210314T070000
END:DAYLIGHT
BEGIN:STANDARD
TZOFFSETFROM:-0400
TZOFFSETTO:-0500
TZNAME:EST
DTSTART:20211107T060000
END:STANDARD
BEGIN:DAYLIGHT
TZOFFSETFROM:-0500
TZOFFSETTO:-0400
TZNAME:EDT
DTSTART:20220313T070000
END:DAYLIGHT
BEGIN:STANDARD
TZOFFSETFROM:-0400
TZOFFSETTO:-0500
TZNAME:EST
DTSTART:20221106T060000
END:STANDARD
BEGIN:DAYLIGHT
TZOFFSETFROM:-0500
TZOFFSETTO:-0400
TZNAME:EDT
DTSTART:20230312T070000
END:DAYLIGHT
BEGIN:STANDARD
TZOFFSETFROM:-0400
TZOFFSETTO:-0500
TZNAME:EST
DTSTART:20231105T060000
END:STANDARD
END:VTIMEZONE
BEGIN:VEVENT
DTSTART;TZID=America/New_York:20221021T110000
DTEND;TZID=America/New_York:20221021T130000
DTSTAMP:20260426T000319
CREATED:20220928T153653Z
LAST-MODIFIED:20220928T164200Z
UID:10000331-1666350000-1666357200@amacfoundation.org
SUMMARY:Everything you need to know about Assisted Living (in-person)
DESCRIPTION:In-Person\, no-fee session on the ins and outs on researching\, selecting\, and being happy in an assisted living facility that fits your needs. \n\n\n\n \n\n\n\nPlease register by Tuesday\, October 18th by contacting the AMAC Foundation office via email at info@amacfoundation.org   \n\n\n\nFor more information or to RSVP\, reach out to AMAC Foundation at info@amacfoundation.org. \n\n\n\nFacilitator\, Janice Martin\, is the founder of Senior Liaison of Central Florida\, Inc.\, a Senior Living placement service covering Florida’s Hernando\, Citrus\, Marion\, Sumter and Lake Counties.  Senior Liaison of Central Florida was created from a desire to help individuals and families navigate the many facets of senior living options. 
URL:https://amacfoundation.org/event/everything-you-need-to-know-about-assisted-living/
LOCATION:Lady Lake Library\, 225 W Guava St\, Lady Lake\, Florida\, 32159\, United States
ATTACH;FMTTYPE=image/jpeg:https://amacfoundation.org/wp-content/uploads/2022/02/iStock-1282867645elder-care-nursing-hoes-assisted-living.jpg
END:VEVENT
END:VCALENDAR