BEGIN:VCALENDAR
VERSION:2.0
PRODID:-//AMAC Foundation - ECPv6.15.15//NONSGML v1.0//EN
CALSCALE:GREGORIAN
METHOD:PUBLISH
X-ORIGINAL-URL:https://amacfoundation.org
X-WR-CALDESC:Events for AMAC Foundation
REFRESH-INTERVAL;VALUE=DURATION:PT1H
X-Robots-Tag:noindex
X-PUBLISHED-TTL:PT1H
BEGIN:VTIMEZONE
TZID:America/New_York
BEGIN:DAYLIGHT
TZOFFSETFROM:-0500
TZOFFSETTO:-0400
TZNAME:EDT
DTSTART:20210314T070000
END:DAYLIGHT
BEGIN:STANDARD
TZOFFSETFROM:-0400
TZOFFSETTO:-0500
TZNAME:EST
DTSTART:20211107T060000
END:STANDARD
BEGIN:DAYLIGHT
TZOFFSETFROM:-0500
TZOFFSETTO:-0400
TZNAME:EDT
DTSTART:20220313T070000
END:DAYLIGHT
BEGIN:STANDARD
TZOFFSETFROM:-0400
TZOFFSETTO:-0500
TZNAME:EST
DTSTART:20221106T060000
END:STANDARD
BEGIN:DAYLIGHT
TZOFFSETFROM:-0500
TZOFFSETTO:-0400
TZNAME:EDT
DTSTART:20230312T070000
END:DAYLIGHT
BEGIN:STANDARD
TZOFFSETFROM:-0400
TZOFFSETTO:-0500
TZNAME:EST
DTSTART:20231105T060000
END:STANDARD
END:VTIMEZONE
BEGIN:VEVENT
DTSTART;TZID=America/New_York:20220930T120000
DTEND;TZID=America/New_York:20220930T133000
DTSTAMP:20260425T235431
CREATED:20220908T232040Z
LAST-MODIFIED:20220908T232047Z
UID:10000327-1664539200-1664544600@amacfoundation.org
SUMMARY:Straight Talk with Major General Gregg Martin
DESCRIPTION:Note: Time Zone is MST \n\n\n\nGregg F. Martin\, Ph.D.\, Major General\, US Army (Retired)\, served on active duty for 36 years\, until May 2015. He is a combat veteran\, Bipolar Survivor\, Airborne-Ranger-Engineer qualified soldier\, and Army Strategist. He holds a Ph.D. and two masters degrees from MIT\, masters degrees in national security strategy from both the Army and Naval war colleges\, and a bachelor’s degree from West Point. He commanded an engineer company\, battalion\, the 130th Engineer Brigade in combat during the first year of the Iraq War in 2003-04\, including the attack from Kuwait\, up the Euphrates River Valley\, to Baghdad and beyond. He served multiple overseas tours\, and\, as a general officer\, commanded the Corps of Engineers Northwest Division\, was Commandant of the Army Engineer School\, commanded Fort Leonard Wood\, was Deputy Commanding General of Third Army/US Army Central\, Commandant of the Army War College\, President of National Defense University\, and Special Assistant to the Chief of Engineers. He was awarded the Distinguished Service Medal (twice)\, the Bronze Star Medal\, and the Combat Action Badge. He is married with three sons\, two of whom are Army combat veterans\, and one an artist. His daughter-in-law is also an Army combat veteran. His wife is an “Army brat” and heroine for persevering through their Army career and surviving and overcoming their bipolar ordeal\, which has been the toughest fight of their lives. They live in Cocoa Beach\, FL\, where he is writing\, speaking\, and sharing his story of “battling bipolar disorder” to help save lives and stop the stigma. \n\n\n\nNOTE: This event is presented by One More Day Inc.\, a Veteran-Operated nonprofit VSO/MSO dedicated to ending the loss of our nation’s cherished Veterans at the hands of suicide. The AMAC Foundation is partnering with One More Day as part of the AMAC Veterans 2021 Project. If you have any questions\, please contact One More Day Suicide Prevention at 208-600-4571 or visit their website at http://www.suicide-prevention.org or Facebook.com/onemoreday. \n\n\n\nTo register for this event\, click here…
URL:https://amacfoundation.org/event/straight-talk-with-major-general-gregg-martin/
ATTACH;FMTTYPE=image/jpeg:https://amacfoundation.org/wp-content/uploads/2017/03/veterans2-min.jpg
END:VEVENT
END:VCALENDAR